BEGIN:VCALENDAR
VERSION:2.0
PRODID:-//English Springer Spaniel Field Trials - ECPv6.15.20//NONSGML v1.0//EN
CALSCALE:GREGORIAN
METHOD:PUBLISH
X-WR-CALNAME:English Springer Spaniel Field Trials
X-ORIGINAL-URL:https://essft.com
X-WR-CALDESC:Events for English Springer Spaniel Field Trials
REFRESH-INTERVAL;VALUE=DURATION:PT1H
X-Robots-Tag:noindex
X-PUBLISHED-TTL:PT1H
BEGIN:VTIMEZONE
TZID:America/Chicago
BEGIN:DAYLIGHT
TZOFFSETFROM:-0600
TZOFFSETTO:-0500
TZNAME:CDT
DTSTART:20180311T080000
END:DAYLIGHT
BEGIN:STANDARD
TZOFFSETFROM:-0500
TZOFFSETTO:-0600
TZNAME:CST
DTSTART:20181104T070000
END:STANDARD
BEGIN:DAYLIGHT
TZOFFSETFROM:-0600
TZOFFSETTO:-0500
TZNAME:CDT
DTSTART:20190310T080000
END:DAYLIGHT
BEGIN:STANDARD
TZOFFSETFROM:-0500
TZOFFSETTO:-0600
TZNAME:CST
DTSTART:20191103T070000
END:STANDARD
BEGIN:DAYLIGHT
TZOFFSETFROM:-0600
TZOFFSETTO:-0500
TZNAME:CDT
DTSTART:20200308T080000
END:DAYLIGHT
BEGIN:STANDARD
TZOFFSETFROM:-0500
TZOFFSETTO:-0600
TZNAME:CST
DTSTART:20201101T070000
END:STANDARD
END:VTIMEZONE
BEGIN:VEVENT
DTSTART;TZID=America/Chicago:20190216T000000
DTEND;TZID=America/Chicago:20190217T000000
DTSTAMP:20260423T100424
CREATED:20250611T201939Z
LAST-MODIFIED:20250611T201939Z
UID:75202-1550275200-1550361600@essft.com
SUMMARY:Arrowhead English Springer Spaniel Club
DESCRIPTION:Entries Close: 8:00 PM PST  on Wednesday\, February 6\, 2019 with the FTS. \nJudges: Jeff Miller D.V.M and Mr. Michel Bourdeau   Judge change as of 12 /31/2018 to Mr. Todd Agnew.\n  \n\n		\n			\n			\n		\n\n		\n  \n\n		\n			\n			\n		\n\n		\n  \n[wunderground location=”Porterville\, CA” numdays=”5″ showdata=”alert\,daynames\,pop\,icon\,highlow\,conditions\,date” layout=”table-horizontal”] \n 
URL:https://essft.com/event/arrowhead-english-springer-spaniel-club-2/
LOCATION:Kincaid Wildlife Management Area\, Porterville\, CA 93257\, USA\, Porterville\, California\, 93257\, United States
CATEGORIES:Field Trials - West
GEO:36.06523;-119.016768
X-APPLE-STRUCTURED-LOCATION;VALUE=URI;X-ADDRESS=Kincaid Wildlife Management Area Porterville CA 93257 USA Porterville California 93257 United States;X-APPLE-RADIUS=500;X-TITLE=Porterville\, CA 93257\, USA:geo:-119.016768,36.06523
END:VEVENT
END:VCALENDAR