BEGIN:VCALENDAR
VERSION:2.0
PRODID:-//English Springer Spaniel Field Trials - ECPv6.15.20//NONSGML v1.0//EN
CALSCALE:GREGORIAN
METHOD:PUBLISH
X-WR-CALNAME:English Springer Spaniel Field Trials
X-ORIGINAL-URL:https://essft.com
X-WR-CALDESC:Events for English Springer Spaniel Field Trials
REFRESH-INTERVAL;VALUE=DURATION:PT1H
X-Robots-Tag:noindex
X-PUBLISHED-TTL:PT1H
BEGIN:VTIMEZONE
TZID:America/Los_Angeles
BEGIN:DAYLIGHT
TZOFFSETFROM:-0800
TZOFFSETTO:-0700
TZNAME:PDT
DTSTART:20160313T100000
END:DAYLIGHT
BEGIN:STANDARD
TZOFFSETFROM:-0700
TZOFFSETTO:-0800
TZNAME:PST
DTSTART:20161106T090000
END:STANDARD
BEGIN:DAYLIGHT
TZOFFSETFROM:-0800
TZOFFSETTO:-0700
TZNAME:PDT
DTSTART:20170312T100000
END:DAYLIGHT
BEGIN:STANDARD
TZOFFSETFROM:-0700
TZOFFSETTO:-0800
TZNAME:PST
DTSTART:20171105T090000
END:STANDARD
BEGIN:DAYLIGHT
TZOFFSETFROM:-0800
TZOFFSETTO:-0700
TZNAME:PDT
DTSTART:20180311T100000
END:DAYLIGHT
BEGIN:STANDARD
TZOFFSETFROM:-0700
TZOFFSETTO:-0800
TZNAME:PST
DTSTART:20181104T090000
END:STANDARD
END:VTIMEZONE
BEGIN:VEVENT
DTSTART;TZID=America/Los_Angeles:20171014T000000
DTEND;TZID=America/Los_Angeles:20171015T000000
DTSTAMP:20260423T202017
CREATED:20250611T175434Z
LAST-MODIFIED:20250611T175434Z
UID:74887-1507939200-1508025600@essft.com
SUMMARY:Arrowhead English Springer Spaniel Club
DESCRIPTION:Entries close: Wednesday\, October 4th\, 2017 via mail. \nJudges:  Bob Willis and Gary Hanvey \n2017 Arrowhead ESSC Fall FT Letter and Map \n  \n[wunderground location=”Fallon\, NV” numdays=”5″ showdata=”alert\,daynames\,pop\,icon\,highlow\,conditions\,date” layout=”table-horizontal”] 
URL:https://essft.com/event/arrowhead-english-springer-spaniel-club/
LOCATION:Lahontan Valley Bird Dog Club\, Fallon\, NV 89406\, USA\, Fallon\, Nevada\, 89406\, United States
CATEGORIES:Field Trials - West
GEO:39.474869;-118.777041
X-APPLE-STRUCTURED-LOCATION;VALUE=URI;X-ADDRESS=Lahontan Valley Bird Dog Club Fallon NV 89406 USA Fallon Nevada 89406 United States;X-APPLE-RADIUS=500;X-TITLE=Fallon\, NV 89406\, USA:geo:-118.777041,39.474869
END:VEVENT
END:VCALENDAR