BEGIN:VCALENDAR
VERSION:2.0
PRODID:-//English Springer Spaniel Field Trials - ECPv6.15.20//NONSGML v1.0//EN
CALSCALE:GREGORIAN
METHOD:PUBLISH
X-WR-CALNAME:English Springer Spaniel Field Trials
X-ORIGINAL-URL:https://essft.com
X-WR-CALDESC:Events for English Springer Spaniel Field Trials
REFRESH-INTERVAL;VALUE=DURATION:PT1H
X-Robots-Tag:noindex
X-PUBLISHED-TTL:PT1H
BEGIN:VTIMEZONE
TZID:America/Chicago
BEGIN:DAYLIGHT
TZOFFSETFROM:-0600
TZOFFSETTO:-0500
TZNAME:CDT
DTSTART:20200308T080000
END:DAYLIGHT
BEGIN:STANDARD
TZOFFSETFROM:-0500
TZOFFSETTO:-0600
TZNAME:CST
DTSTART:20201101T070000
END:STANDARD
BEGIN:DAYLIGHT
TZOFFSETFROM:-0600
TZOFFSETTO:-0500
TZNAME:CDT
DTSTART:20210314T080000
END:DAYLIGHT
BEGIN:STANDARD
TZOFFSETFROM:-0500
TZOFFSETTO:-0600
TZNAME:CST
DTSTART:20211107T070000
END:STANDARD
BEGIN:DAYLIGHT
TZOFFSETFROM:-0600
TZOFFSETTO:-0500
TZNAME:CDT
DTSTART:20220313T080000
END:DAYLIGHT
BEGIN:STANDARD
TZOFFSETFROM:-0500
TZOFFSETTO:-0600
TZNAME:CST
DTSTART:20221106T070000
END:STANDARD
END:VTIMEZONE
BEGIN:VEVENT
DTSTART;TZID=America/Chicago:20210213T000000
DTEND;TZID=America/Chicago:20210214T000000
DTSTAMP:20260425T103922
CREATED:20250613T025313Z
LAST-MODIFIED:20250613T025313Z
UID:75742-1613174400-1613260800@essft.com
SUMMARY:Arrowhead ESS Club
DESCRIPTION:1/8/21: New Location – 5030 Ave 68\, Alpaugh\, CA.  Approximately 40 miles SW of Porterville.  Also Judge Change:  Michel Bourdeau cannot leave Canada and is being replaced by Renee Shannon. \n  \nEntries Close: 8:00 PM (PST) February 3\, 2021 with the Field Trial Secretary \nJudges: Renee Shannon and Bob Bullard\n 
URL:https://essft.com/event/arrowhead-ess-club-6/
CATEGORIES:Field Trials - West
END:VEVENT
END:VCALENDAR