BEGIN:VCALENDAR
VERSION:2.0
PRODID:-//English Springer Spaniel Field Trials - ECPv6.15.20//NONSGML v1.0//EN
CALSCALE:GREGORIAN
METHOD:PUBLISH
X-WR-CALNAME:English Springer Spaniel Field Trials
X-ORIGINAL-URL:https://essft.com
X-WR-CALDESC:Events for English Springer Spaniel Field Trials
REFRESH-INTERVAL;VALUE=DURATION:PT1H
X-Robots-Tag:noindex
X-PUBLISHED-TTL:PT1H
BEGIN:VTIMEZONE
TZID:America/Chicago
BEGIN:DAYLIGHT
TZOFFSETFROM:-0600
TZOFFSETTO:-0500
TZNAME:CDT
DTSTART:20210314T080000
END:DAYLIGHT
BEGIN:STANDARD
TZOFFSETFROM:-0500
TZOFFSETTO:-0600
TZNAME:CST
DTSTART:20211107T070000
END:STANDARD
BEGIN:DAYLIGHT
TZOFFSETFROM:-0600
TZOFFSETTO:-0500
TZNAME:CDT
DTSTART:20220313T080000
END:DAYLIGHT
BEGIN:STANDARD
TZOFFSETFROM:-0500
TZOFFSETTO:-0600
TZNAME:CST
DTSTART:20221106T070000
END:STANDARD
BEGIN:DAYLIGHT
TZOFFSETFROM:-0600
TZOFFSETTO:-0500
TZNAME:CDT
DTSTART:20230312T080000
END:DAYLIGHT
BEGIN:STANDARD
TZOFFSETFROM:-0500
TZOFFSETTO:-0600
TZNAME:CST
DTSTART:20231105T070000
END:STANDARD
END:VTIMEZONE
BEGIN:VEVENT
DTSTART;TZID=America/Chicago:20221008T000000
DTEND;TZID=America/Chicago:20221009T000000
DTSTAMP:20260422T183751
CREATED:20250613T044216Z
LAST-MODIFIED:20250613T044216Z
UID:76173-1665187200-1665273600@essft.com
SUMMARY:Arrowhead ESS Club
DESCRIPTION:Entries Close:8:00 PM (PST) Wednesday\, September 28th\, 2022 \nPLEASE MAKE CHECKS PAYABLE TO ARROWHEAD ENGLISH\nSPRINGER SPANIEL CLUB AND MAIL WITH ENTRIES TO:\nChip Bunker\, Field Trial Secretary\n5111 Solias Road\, Fallon NV 89406\nEmail: chip@hjsys.com\nEmail will be accepted but entry fees must be paid prior to trial. \nJudges:  Mike Pollack (MI)  and Dave Anderson (OR)
URL:https://essft.com/event/arrowhead-ess-club-9/
LOCATION:Lahontan Valley Bird Dog Club\, Fallon\, NV 89406\, USA\, Fallon\, Nevada\, 89406\, United States
CATEGORIES:Field Trials - West
GEO:39.474869;-118.777041
X-APPLE-STRUCTURED-LOCATION;VALUE=URI;X-ADDRESS=Lahontan Valley Bird Dog Club Fallon NV 89406 USA Fallon Nevada 89406 United States;X-APPLE-RADIUS=500;X-TITLE=Fallon\, NV 89406\, USA:geo:-118.777041,39.474869
END:VEVENT
END:VCALENDAR