BEGIN:VCALENDAR
VERSION:2.0
PRODID:-//English Springer Spaniel Field Trials - ECPv6.15.20//NONSGML v1.0//EN
CALSCALE:GREGORIAN
METHOD:PUBLISH
X-WR-CALNAME:English Springer Spaniel Field Trials
X-ORIGINAL-URL:https://essft.com
X-WR-CALDESC:Events for English Springer Spaniel Field Trials
REFRESH-INTERVAL;VALUE=DURATION:PT1H
X-Robots-Tag:noindex
X-PUBLISHED-TTL:PT1H
BEGIN:VTIMEZONE
TZID:America/Chicago
BEGIN:DAYLIGHT
TZOFFSETFROM:-0600
TZOFFSETTO:-0500
TZNAME:CDT
DTSTART:20200308T080000
END:DAYLIGHT
BEGIN:STANDARD
TZOFFSETFROM:-0500
TZOFFSETTO:-0600
TZNAME:CST
DTSTART:20201101T070000
END:STANDARD
BEGIN:DAYLIGHT
TZOFFSETFROM:-0600
TZOFFSETTO:-0500
TZNAME:CDT
DTSTART:20210314T080000
END:DAYLIGHT
BEGIN:STANDARD
TZOFFSETFROM:-0500
TZOFFSETTO:-0600
TZNAME:CST
DTSTART:20211107T070000
END:STANDARD
BEGIN:DAYLIGHT
TZOFFSETFROM:-0600
TZOFFSETTO:-0500
TZNAME:CDT
DTSTART:20220313T080000
END:DAYLIGHT
BEGIN:STANDARD
TZOFFSETFROM:-0500
TZOFFSETTO:-0600
TZNAME:CST
DTSTART:20221106T070000
END:STANDARD
END:VTIMEZONE
BEGIN:VEVENT
DTSTART;TZID=America/Chicago:20211002T000000
DTEND;TZID=America/Chicago:20211003T000000
DTSTAMP:20260422T152440
CREATED:20250613T035048Z
LAST-MODIFIED:20250613T035048Z
UID:75898-1633132800-1633219200@essft.com
SUMMARY:Bushy Hill Springer Spaniel Field Trial Association
DESCRIPTION:Entries Close: Tuesday\, September 21\, 2021 11:59:59 PM Eastern Time(ET) on Hunt Secretary \nJudges: Randy Manore and Terry Sworsky
URL:https://essft.com/event/bushy-hill-springer-spaniel-field-trial-association-4/
LOCATION:Triple Ridge Farm\, Southport\, NY\, USA\, Southport\, New York\, United States
CATEGORIES:Field Trials - East
ORGANIZER;CN="Suzanne Smith":MAILTO:ssmith@interimhealthcr.com
GEO:42.054796;-76.819123
X-APPLE-STRUCTURED-LOCATION;VALUE=URI;X-ADDRESS=Triple Ridge Farm Southport NY USA Southport New York United States;X-APPLE-RADIUS=500;X-TITLE=Southport\, NY\, USA:geo:-76.819123,42.054796
END:VEVENT
END:VCALENDAR