BEGIN:VCALENDAR
VERSION:2.0
PRODID:-//English Springer Spaniel Field Trials - ECPv6.15.20//NONSGML v1.0//EN
CALSCALE:GREGORIAN
METHOD:PUBLISH
X-WR-CALNAME:English Springer Spaniel Field Trials
X-ORIGINAL-URL:https://essft.com
X-WR-CALDESC:Events for English Springer Spaniel Field Trials
REFRESH-INTERVAL;VALUE=DURATION:PT1H
X-Robots-Tag:noindex
X-PUBLISHED-TTL:PT1H
BEGIN:VTIMEZONE
TZID:America/Chicago
BEGIN:DAYLIGHT
TZOFFSETFROM:-0600
TZOFFSETTO:-0500
TZNAME:CDT
DTSTART:20170312T080000
END:DAYLIGHT
BEGIN:STANDARD
TZOFFSETFROM:-0500
TZOFFSETTO:-0600
TZNAME:CST
DTSTART:20171105T070000
END:STANDARD
BEGIN:DAYLIGHT
TZOFFSETFROM:-0600
TZOFFSETTO:-0500
TZNAME:CDT
DTSTART:20180311T080000
END:DAYLIGHT
BEGIN:STANDARD
TZOFFSETFROM:-0500
TZOFFSETTO:-0600
TZNAME:CST
DTSTART:20181104T070000
END:STANDARD
BEGIN:DAYLIGHT
TZOFFSETFROM:-0600
TZOFFSETTO:-0500
TZNAME:CDT
DTSTART:20190310T080000
END:DAYLIGHT
BEGIN:STANDARD
TZOFFSETFROM:-0500
TZOFFSETTO:-0600
TZNAME:CST
DTSTART:20191103T070000
END:STANDARD
END:VTIMEZONE
BEGIN:VEVENT
DTSTART;TZID=America/Chicago:20180428T000000
DTEND;TZID=America/Chicago:20180429T000000
DTSTAMP:20260423T172358
CREATED:20250611T183013Z
LAST-MODIFIED:20250611T183013Z
UID:74996-1524873600-1524960000@essft.com
SUMMARY:Central New England Sporting Spaniel Club
DESCRIPTION:Entries Close:  Tuesday\, April 17\, 2018 on Hunt Secretary \nJudges:  Robert Ryan and Jon Cook\nCHANGE OF LOCATION:  Dublin Road\, Howard\, New York\n“Lunch is on us!”\n\n		\n			\n			\n		\n\n		\n  \n  \n[wunderground location=”Howard\, NY” numdays=”5″ showdata=”alert\,daynames\,pop\,icon\,highlow\,conditions\,date” layout=”table-horizontal”] \n  \n 
URL:https://essft.com/event/central-new-england-sporting-spaniel-club-3/
LOCATION:New Location as of April 11th – Howard NY\, Dublin Rd\, Canisteo\, NY 14823\, USA\, Canisteo\, New York\, 14823\, United States
CATEGORIES:Field Trials - East
GEO:42.300534;-77.483167
X-APPLE-STRUCTURED-LOCATION;VALUE=URI;X-ADDRESS=DESCRIPTION:Entries Close:  Tuesday April 17 2018 on Hunt Secretary \nJudges:  Robert Ryan and Jon Cook\nCHANGE OF   Dublin Road Howard New York\n“Lunch is on us!”\n\n		\n			\n			\n		\n\n		\n  \n  \n[wunderground location=”Howard NY” numdays=”5″ showdata=”alertdaynamespopiconhighlowconditionsdate” layout=”table-horizontal”] \n  \n ;X-APPLE-RADIUS=500;X-TITLE=Dublin Rd\, Canisteo\, NY 14823\, USA:geo:-77.483167,42.300534
END:VEVENT
END:VCALENDAR