BEGIN:VCALENDAR
VERSION:2.0
PRODID:-//English Springer Spaniel Field Trials - ECPv6.15.20//NONSGML v1.0//EN
CALSCALE:GREGORIAN
METHOD:PUBLISH
X-WR-CALNAME:English Springer Spaniel Field Trials
X-ORIGINAL-URL:https://essft.com
X-WR-CALDESC:Events for English Springer Spaniel Field Trials
REFRESH-INTERVAL;VALUE=DURATION:PT1H
X-Robots-Tag:noindex
X-PUBLISHED-TTL:PT1H
BEGIN:VTIMEZONE
TZID:America/Chicago
BEGIN:DAYLIGHT
TZOFFSETFROM:-0600
TZOFFSETTO:-0500
TZNAME:CDT
DTSTART:20190310T080000
END:DAYLIGHT
BEGIN:STANDARD
TZOFFSETFROM:-0500
TZOFFSETTO:-0600
TZNAME:CST
DTSTART:20191103T070000
END:STANDARD
BEGIN:DAYLIGHT
TZOFFSETFROM:-0600
TZOFFSETTO:-0500
TZNAME:CDT
DTSTART:20200308T080000
END:DAYLIGHT
BEGIN:STANDARD
TZOFFSETFROM:-0500
TZOFFSETTO:-0600
TZNAME:CST
DTSTART:20201101T070000
END:STANDARD
BEGIN:DAYLIGHT
TZOFFSETFROM:-0600
TZOFFSETTO:-0500
TZNAME:CDT
DTSTART:20210314T080000
END:DAYLIGHT
BEGIN:STANDARD
TZOFFSETFROM:-0500
TZOFFSETTO:-0600
TZNAME:CST
DTSTART:20211107T070000
END:STANDARD
END:VTIMEZONE
BEGIN:VEVENT
DTSTART;TZID=America/Chicago:20201108T000000
DTEND;TZID=America/Chicago:20201108T000000
DTSTAMP:20260425T104009
CREATED:20250613T024713Z
LAST-MODIFIED:20250613T024713Z
UID:75706-1604793600-1604793600@essft.com
SUMMARY:Central New England Sporting Spaniel Club
DESCRIPTION:Entries Close: Tuesday\, October 27\, 2020 11:59:59 PM Eastern Time(ET) on Hunt Secretary \nJudges: Peter Renwick and Brian Bilotta    New Judge 10/22:  Doug Regnet\n  \n\n\n\nDIRECTIONS: \nIf you coming from Bath\, NY or Super 8 in Bath NY\nFrom Motel go LEFT (North) on 415 for 3.2 miles\nTake a left on to Campbell Creek Road for 1.6 miles\n(Church Family Life Ministry on corner)\nBear right on Chamberlain for 1.8 miles\nTake 2nd left on Snell Hill Road for 2.3 miles (stop sign)\nGo straight thru stop sign for 2.6 miles\nTurn left on Dublin Road for .8 miles\nGPS (6225 Dublin Road Canisteo New York 14823) \nThere will be white signs for Hillside you can follow up to Snell Hill Road\, and then you will go past Hillside and keep on going to Turnpike road.\n\n\n\n\n		\n			\n			\n		\n\n		\n  \n 
URL:https://essft.com/event/central-new-england-sporting-spaniel-club-8/
CATEGORIES:Field Trials - East
END:VEVENT
END:VCALENDAR