BEGIN:VCALENDAR
VERSION:2.0
PRODID:-//English Springer Spaniel Field Trials - ECPv6.15.20//NONSGML v1.0//EN
CALSCALE:GREGORIAN
METHOD:PUBLISH
X-WR-CALNAME:English Springer Spaniel Field Trials
X-ORIGINAL-URL:https://essft.com
X-WR-CALDESC:Events for English Springer Spaniel Field Trials
REFRESH-INTERVAL;VALUE=DURATION:PT1H
X-Robots-Tag:noindex
X-PUBLISHED-TTL:PT1H
BEGIN:VTIMEZONE
TZID:America/Chicago
BEGIN:DAYLIGHT
TZOFFSETFROM:-0600
TZOFFSETTO:-0500
TZNAME:CDT
DTSTART:20220313T080000
END:DAYLIGHT
BEGIN:STANDARD
TZOFFSETFROM:-0500
TZOFFSETTO:-0600
TZNAME:CST
DTSTART:20221106T070000
END:STANDARD
BEGIN:DAYLIGHT
TZOFFSETFROM:-0600
TZOFFSETTO:-0500
TZNAME:CDT
DTSTART:20230312T080000
END:DAYLIGHT
BEGIN:STANDARD
TZOFFSETFROM:-0500
TZOFFSETTO:-0600
TZNAME:CST
DTSTART:20231105T070000
END:STANDARD
BEGIN:DAYLIGHT
TZOFFSETFROM:-0600
TZOFFSETTO:-0500
TZNAME:CDT
DTSTART:20240310T080000
END:DAYLIGHT
BEGIN:STANDARD
TZOFFSETFROM:-0500
TZOFFSETTO:-0600
TZNAME:CST
DTSTART:20241103T070000
END:STANDARD
END:VTIMEZONE
BEGIN:VEVENT
DTSTART;TZID=America/Chicago:20230527T000000
DTEND;TZID=America/Chicago:20230528T000000
DTSTAMP:20260422T025900
CREATED:20250613T172825Z
LAST-MODIFIED:20250613T172825Z
UID:76336-1685145600-1685232000@essft.com
SUMMARY:Central Ontario Spaniel Club
DESCRIPTION:ENTRIES — Closing Date: 6:00 pm.\, Friday\, May 19th\, 2023  DogShow.ca – Central Ontario Spaniel Club\, Sat\, May 27\, 2023 to Sun\, May 28\, 2023 \nJUDGES: \nJoseph Coady\, 1153\, 688 River Road\, Winnipeg MB R2M5A4\nDan Tuttle\, 6170\, 11490 Horseshoe Channel Dr.\, Lakeview\, OH 9209\nNick Pimlott\, 10496\, 213 Divadale Dr.\, East York Ontario M4G 2P8\nWilliam McCaffrey\, 6640\, 383 Dominion Dr.\, Hanmer Ontario P3P 0A9\nGreg Owttrim\, 10293\, 2 Wesite Ave.\, Dundas ON L9H 5M2 \n 
URL:https://essft.com/event/central-ontario-spaniel-club-10/
CATEGORIES:Canadian FT
END:VEVENT
END:VCALENDAR