BEGIN:VCALENDAR
VERSION:2.0
PRODID:-//English Springer Spaniel Field Trials - ECPv6.15.20//NONSGML v1.0//EN
CALSCALE:GREGORIAN
METHOD:PUBLISH
X-WR-CALNAME:English Springer Spaniel Field Trials
X-ORIGINAL-URL:https://essft.com
X-WR-CALDESC:Events for English Springer Spaniel Field Trials
REFRESH-INTERVAL;VALUE=DURATION:PT1H
X-Robots-Tag:noindex
X-PUBLISHED-TTL:PT1H
BEGIN:VTIMEZONE
TZID:America/Chicago
BEGIN:DAYLIGHT
TZOFFSETFROM:-0600
TZOFFSETTO:-0500
TZNAME:CDT
DTSTART:20220313T080000
END:DAYLIGHT
BEGIN:STANDARD
TZOFFSETFROM:-0500
TZOFFSETTO:-0600
TZNAME:CST
DTSTART:20221106T070000
END:STANDARD
BEGIN:DAYLIGHT
TZOFFSETFROM:-0600
TZOFFSETTO:-0500
TZNAME:CDT
DTSTART:20230312T080000
END:DAYLIGHT
BEGIN:STANDARD
TZOFFSETFROM:-0500
TZOFFSETTO:-0600
TZNAME:CST
DTSTART:20231105T070000
END:STANDARD
BEGIN:DAYLIGHT
TZOFFSETFROM:-0600
TZOFFSETTO:-0500
TZNAME:CDT
DTSTART:20240310T080000
END:DAYLIGHT
BEGIN:STANDARD
TZOFFSETFROM:-0500
TZOFFSETTO:-0600
TZNAME:CST
DTSTART:20241103T070000
END:STANDARD
END:VTIMEZONE
BEGIN:VEVENT
DTSTART;TZID=America/Chicago:20230610T000000
DTEND;TZID=America/Chicago:20230611T000000
DTSTAMP:20260424T072008
CREATED:20250613T172928Z
LAST-MODIFIED:20250613T172928Z
UID:76351-1686355200-1686441600@essft.com
SUMMARY:Central Ontario Spaniel Club
DESCRIPTION:ENTRIES — Closing Date: 6:00 pm.\, Friday\, June 2\, 2023 \nJUDGES \nGloria Decker\, 6818\, PO Box 269\, Delaware\, ON N0L1E0\nBrian Elwood\, 8875\, 465 Golf Club Rd.\, Hannon ON L0R 1P0\nJeffrey Cubitt\, 6769\, 2320 Fischer Hallman Rd.\, New Dundee Ontario N0B 2E0\nGunther Manz\, 1631\, 95 Main St.\, Waterford ON N0E1Y0\nMichael Pollack\, 8431\, 3012 Shock Rd.\, Beaverton\, MI 48612-8231 US\nGreg Owttrim\, 10293\, 2 Wesite Ave.\, Dundas ON L9H 5M2
URL:https://essft.com/event/central-ontario-spaniel-club-11/
CATEGORIES:Canadian FT
END:VEVENT
END:VCALENDAR