BEGIN:VCALENDAR
VERSION:2.0
PRODID:-//English Springer Spaniel Field Trials - ECPv6.15.20//NONSGML v1.0//EN
CALSCALE:GREGORIAN
METHOD:PUBLISH
X-WR-CALNAME:English Springer Spaniel Field Trials
X-ORIGINAL-URL:https://essft.com
X-WR-CALDESC:Events for English Springer Spaniel Field Trials
REFRESH-INTERVAL;VALUE=DURATION:PT1H
X-Robots-Tag:noindex
X-PUBLISHED-TTL:PT1H
BEGIN:VTIMEZONE
TZID:America/Chicago
BEGIN:DAYLIGHT
TZOFFSETFROM:-0600
TZOFFSETTO:-0500
TZNAME:CDT
DTSTART:20190310T080000
END:DAYLIGHT
BEGIN:STANDARD
TZOFFSETFROM:-0500
TZOFFSETTO:-0600
TZNAME:CST
DTSTART:20191103T070000
END:STANDARD
BEGIN:DAYLIGHT
TZOFFSETFROM:-0600
TZOFFSETTO:-0500
TZNAME:CDT
DTSTART:20200308T080000
END:DAYLIGHT
BEGIN:STANDARD
TZOFFSETFROM:-0500
TZOFFSETTO:-0600
TZNAME:CST
DTSTART:20201101T070000
END:STANDARD
BEGIN:DAYLIGHT
TZOFFSETFROM:-0600
TZOFFSETTO:-0500
TZNAME:CDT
DTSTART:20210314T080000
END:DAYLIGHT
BEGIN:STANDARD
TZOFFSETFROM:-0500
TZOFFSETTO:-0600
TZNAME:CST
DTSTART:20211107T070000
END:STANDARD
END:VTIMEZONE
BEGIN:VEVENT
DTSTART;TZID=America/Chicago:20200808T000000
DTEND;TZID=America/Chicago:20200808T000000
DTSTAMP:20260423T003618
CREATED:20250612T033630Z
LAST-MODIFIED:20250612T033630Z
UID:75597-1596844800-1596844800@essft.com
SUMMARY:Central States ESS Club - Water Test
DESCRIPTION:Dear Fellow Trialers: \nThe ESS Club of the Central States invites you to a springer spaniel water test and training session.  \nSaturday August 8\, 2020  at DANSMIRTH KENNELS\, 17109 Lincoln Rd Harvard\, IL 60033 \nTraining to start at 8AM \, Water test to start not before 12:00 Noon. \nTraining birds will be available for purchase (pheasants) \nFood: **Change of Plans: Please provide your own lunch. \n                                       We will have water and Gatorade.  \n\n  \nHotels: \nHeritage Inn and Suites 1701 S Division St\, Harvard\, IL 60033 \n815-943-0700  Pet-Friendly (2nd Floor Only) \n  \nSuper 8   1220 Davis Road\, Woodstock\, IL 60098 \n815-337-8808 \n  \nSuper 8  11200 N US Rte 12\, Richmond\, IL 60071 \n815-678-4711 \nBoth Super 8 Motels are pet-friendly. \n  \nWe look forward to seeing you there!  If you have questions email or call. \nLisa Schmeling                                    Kurt Gerlach \nField Trial Secretary                           Chairman \nlmschmeling@gmail.com          kurt.gerlach@hoffmanestates.org \n414-510-9800                                      224-281-8891 \n  \n\n		\n			\n			\n		\n\n		\n  \nCentralStates 2020 WaterTest Fillable Entry in MS WORD \n\n		\n			\n			\n		\n\n		\n 
URL:https://essft.com/event/central-states-ess-club-water-test/
LOCATION:Dansmirth Kennels\, 17109 Lincoln Rd\, Harvard\, IL 60033\, USA\, Harvard\, Illinois\, 60033\, United States
CATEGORIES:Water Test
END:VEVENT
END:VCALENDAR