BEGIN:VCALENDAR
VERSION:2.0
PRODID:-//English Springer Spaniel Field Trials - ECPv6.15.20//NONSGML v1.0//EN
CALSCALE:GREGORIAN
METHOD:PUBLISH
X-WR-CALNAME:English Springer Spaniel Field Trials
X-ORIGINAL-URL:https://essft.com
X-WR-CALDESC:Events for English Springer Spaniel Field Trials
REFRESH-INTERVAL;VALUE=DURATION:PT1H
X-Robots-Tag:noindex
X-PUBLISHED-TTL:PT1H
BEGIN:VTIMEZONE
TZID:America/Chicago
BEGIN:DAYLIGHT
TZOFFSETFROM:-0600
TZOFFSETTO:-0500
TZNAME:CDT
DTSTART:20180311T080000
END:DAYLIGHT
BEGIN:STANDARD
TZOFFSETFROM:-0500
TZOFFSETTO:-0600
TZNAME:CST
DTSTART:20181104T070000
END:STANDARD
BEGIN:DAYLIGHT
TZOFFSETFROM:-0600
TZOFFSETTO:-0500
TZNAME:CDT
DTSTART:20190310T080000
END:DAYLIGHT
BEGIN:STANDARD
TZOFFSETFROM:-0500
TZOFFSETTO:-0600
TZNAME:CST
DTSTART:20191103T070000
END:STANDARD
BEGIN:DAYLIGHT
TZOFFSETFROM:-0600
TZOFFSETTO:-0500
TZNAME:CDT
DTSTART:20200308T080000
END:DAYLIGHT
BEGIN:STANDARD
TZOFFSETFROM:-0500
TZOFFSETTO:-0600
TZNAME:CST
DTSTART:20201101T070000
END:STANDARD
END:VTIMEZONE
BEGIN:VEVENT
DTSTART;TZID=America/Chicago:20190302T000000
DTEND;TZID=America/Chicago:20190303T000000
DTSTAMP:20260423T100506
CREATED:20250611T202210Z
LAST-MODIFIED:20250611T202210Z
UID:75217-1551484800-1551571200@essft.com
SUMMARY:Cincinnati English Springer Spaniel Field Trial Club
DESCRIPTION:Entries Close:  Tuesday\, February 19\, 2019 11:59:59 PM Eastern Time(ET) on Hunt Secretary \nJudges: Clay Earl and Katie Gorecki\n\n		\n			\n			\n		\n\n		\n  \n  \n[wunderground location=”Waynesfield\, OH” numdays=”5″ showdata=”alert\,daynames\,pop\,icon\,highlow\,conditions\,date” layout=”table-horizontal”] \n 
URL:https://essft.com/event/cincinnati-english-springer-spaniel-field-trial-club-3/
LOCATION:Cunningham Farm\, 24330 Sandusky Rd\, Marysville\, OH 43040\, USA\, Marysville\, Ohio\, 43040\, United States
CATEGORIES:Field Trials - Mid East
ORGANIZER;CN="Amy Haering":MAILTO:cessftc@yahoo.com
GEO:40.358621;-83.328942
X-APPLE-STRUCTURED-LOCATION;VALUE=URI;X-ADDRESS=Cunningham Farm 24330 Sandusky Rd Marysville OH 43040 USA Marysville Ohio 43040 United States;X-APPLE-RADIUS=500;X-TITLE=24330 Sandusky Rd\, Marysville\, OH 43040\, USA:geo:-83.328942,40.358621
END:VEVENT
END:VCALENDAR