BEGIN:VCALENDAR
VERSION:2.0
PRODID:-//English Springer Spaniel Field Trials - ECPv6.15.20//NONSGML v1.0//EN
CALSCALE:GREGORIAN
METHOD:PUBLISH
X-WR-CALNAME:English Springer Spaniel Field Trials
X-ORIGINAL-URL:https://essft.com
X-WR-CALDESC:Events for English Springer Spaniel Field Trials
REFRESH-INTERVAL;VALUE=DURATION:PT1H
X-Robots-Tag:noindex
X-PUBLISHED-TTL:PT1H
BEGIN:VTIMEZONE
TZID:America/Chicago
BEGIN:DAYLIGHT
TZOFFSETFROM:-0600
TZOFFSETTO:-0500
TZNAME:CDT
DTSTART:20170312T080000
END:DAYLIGHT
BEGIN:STANDARD
TZOFFSETFROM:-0500
TZOFFSETTO:-0600
TZNAME:CST
DTSTART:20171105T070000
END:STANDARD
BEGIN:DAYLIGHT
TZOFFSETFROM:-0600
TZOFFSETTO:-0500
TZNAME:CDT
DTSTART:20180311T080000
END:DAYLIGHT
BEGIN:STANDARD
TZOFFSETFROM:-0500
TZOFFSETTO:-0600
TZNAME:CST
DTSTART:20181104T070000
END:STANDARD
BEGIN:DAYLIGHT
TZOFFSETFROM:-0600
TZOFFSETTO:-0500
TZNAME:CDT
DTSTART:20190310T080000
END:DAYLIGHT
BEGIN:STANDARD
TZOFFSETFROM:-0500
TZOFFSETTO:-0600
TZNAME:CST
DTSTART:20191103T070000
END:STANDARD
END:VTIMEZONE
BEGIN:VEVENT
DTSTART;TZID=America/Chicago:20181013T000000
DTEND;TZID=America/Chicago:20181014T000000
DTSTAMP:20260423T131306
CREATED:20250611T200354Z
LAST-MODIFIED:20250611T200354Z
UID:75126-1539388800-1539475200@essft.com
SUMMARY:Cincinnati ESSFTC
DESCRIPTION:Entries Close: 8:00 pm  Monday\, October 1\, 2018 with the FTS. \nJudges: Mike Elsasser and Bob Merrill\n  \n\n		\n			\n			\n		\n\n		\n  \nKlingler Farm Map \n\n		\n			\n			\n		\n\n		\n  \n\n		\n			\n			\n		\n\n		\n  \n\n		\n			\n			\n		\n\n		\n  \nCLICK HERE for the 2018 CESSFTC AKC Entry Form MS WORD \n  \n[wunderground location=”Belle Center\, OH” numdays=”5″ showdata=”alert\,daynames\,pop\,icon\,highlow\,conditions\,date” layout=”table-horizontal”]
URL:https://essft.com/event/cincinnati-essftc-2/
LOCATION:Ohio Northern University Farm\, 14628 OH-235\, Belle Center\, OH 43310\, USA\, Belle Center\, Ohio\, 43310\, United States
CATEGORIES:Field Trials - Mid East
ORGANIZER;CN="Amy Haering":MAILTO:cessftc@yahoo.com
GEO:40.60684;-83.841855
X-APPLE-STRUCTURED-LOCATION;VALUE=URI;X-ADDRESS=Ohio Northern University Farm 14628 OH-235 Belle Center OH 43310 USA Belle Center Ohio 43310 United States;X-APPLE-RADIUS=500;X-TITLE=14628 OH-235\, Belle Center\, OH 43310\, USA:geo:-83.841855,40.60684
END:VEVENT
END:VCALENDAR