BEGIN:VCALENDAR
VERSION:2.0
PRODID:-//English Springer Spaniel Field Trials - ECPv6.15.20//NONSGML v1.0//EN
CALSCALE:GREGORIAN
METHOD:PUBLISH
X-WR-CALNAME:English Springer Spaniel Field Trials
X-ORIGINAL-URL:https://essft.com
X-WR-CALDESC:Events for English Springer Spaniel Field Trials
REFRESH-INTERVAL;VALUE=DURATION:PT1H
X-Robots-Tag:noindex
X-PUBLISHED-TTL:PT1H
BEGIN:VTIMEZONE
TZID:America/Chicago
BEGIN:DAYLIGHT
TZOFFSETFROM:-0600
TZOFFSETTO:-0500
TZNAME:CDT
DTSTART:20220313T080000
END:DAYLIGHT
BEGIN:STANDARD
TZOFFSETFROM:-0500
TZOFFSETTO:-0600
TZNAME:CST
DTSTART:20221106T070000
END:STANDARD
BEGIN:DAYLIGHT
TZOFFSETFROM:-0600
TZOFFSETTO:-0500
TZNAME:CDT
DTSTART:20230312T080000
END:DAYLIGHT
BEGIN:STANDARD
TZOFFSETFROM:-0500
TZOFFSETTO:-0600
TZNAME:CST
DTSTART:20231105T070000
END:STANDARD
BEGIN:DAYLIGHT
TZOFFSETFROM:-0600
TZOFFSETTO:-0500
TZNAME:CDT
DTSTART:20240310T080000
END:DAYLIGHT
BEGIN:STANDARD
TZOFFSETFROM:-0500
TZOFFSETTO:-0600
TZNAME:CST
DTSTART:20241103T070000
END:STANDARD
END:VTIMEZONE
BEGIN:VEVENT
DTSTART;TZID=America/Chicago:20230602T000000
DTEND;TZID=America/Chicago:20230604T000000
DTSTAMP:20260422T013043
CREATED:20250613T172840Z
LAST-MODIFIED:20250613T172840Z
UID:76341-1685664000-1685836800@essft.com
SUMMARY:Club de Chiens de Chasse de Quebec
DESCRIPTION:Closing Date – May 26 2023\, 8:00 PM\, EDTDogShow.ca – Club de Chiens de Chasse de Quebec\, Fri\, Jun 2\, 2023 to Sun\, Jun 4\, 2023 \n  \nJUDGES \nOLIVIA STEELE-MORTIMER\, 255 Meadowlark Ln\, Hamilton MT\, 59840-9147\nPAT KELIHER\, W Alna Rd\, Alna ME 04535-3419\nJOHN FILLIER 2460 Elgin Rd Rr 1\, Hopewell NS B0K 1C0\nDANY BERGERON 4862 Escoffier\, Quebec QC G1Y 2Z9\nPIERRE FECTEAU 770 Principale\, La Pérade QC G0X 2J0\nCHRISTOPHE FECTEAU 7997 Châteauvert\, Trois-Rivières QC G8Y 6V9 \n 
URL:https://essft.com/event/club-de-chiens-de-chasse-de-quebec-5/
CATEGORIES:Canadian FT
END:VEVENT
END:VCALENDAR