BEGIN:VCALENDAR
VERSION:2.0
PRODID:-//English Springer Spaniel Field Trials - ECPv6.15.20//NONSGML v1.0//EN
CALSCALE:GREGORIAN
METHOD:PUBLISH
X-WR-CALNAME:English Springer Spaniel Field Trials
X-ORIGINAL-URL:https://essft.com
X-WR-CALDESC:Events for English Springer Spaniel Field Trials
REFRESH-INTERVAL;VALUE=DURATION:PT1H
X-Robots-Tag:noindex
X-PUBLISHED-TTL:PT1H
BEGIN:VTIMEZONE
TZID:America/Chicago
BEGIN:DAYLIGHT
TZOFFSETFROM:-0600
TZOFFSETTO:-0500
TZNAME:CDT
DTSTART:20210314T080000
END:DAYLIGHT
BEGIN:STANDARD
TZOFFSETFROM:-0500
TZOFFSETTO:-0600
TZNAME:CST
DTSTART:20211107T070000
END:STANDARD
BEGIN:DAYLIGHT
TZOFFSETFROM:-0600
TZOFFSETTO:-0500
TZNAME:CDT
DTSTART:20220313T080000
END:DAYLIGHT
BEGIN:STANDARD
TZOFFSETFROM:-0500
TZOFFSETTO:-0600
TZNAME:CST
DTSTART:20221106T070000
END:STANDARD
BEGIN:DAYLIGHT
TZOFFSETFROM:-0600
TZOFFSETTO:-0500
TZNAME:CDT
DTSTART:20230312T080000
END:DAYLIGHT
BEGIN:STANDARD
TZOFFSETFROM:-0500
TZOFFSETTO:-0600
TZNAME:CST
DTSTART:20231105T070000
END:STANDARD
END:VTIMEZONE
BEGIN:VEVENT
DTSTART;TZID=America/Chicago:20220319T000000
DTEND;TZID=America/Chicago:20220320T000000
DTSTAMP:20260425T151745
CREATED:20250613T043416Z
LAST-MODIFIED:20250613T043416Z
UID:76013-1647648000-1647734400@essft.com
SUMMARY:COCKER:  Green Valley Spaniel Club
DESCRIPTION:Entries Close: Tuesday\, March 8\, 2022 11:59:59 PM Eastern Time(ET) Hunt Secretary \nJudges:  Tom Meyer and Jim O’Shea\n 
URL:https://essft.com/event/cocker-green-valley-spaniel-club-2/
LOCATION:Raahauges Pheasant Club\, Dunnigan\, CA\, USA\, Dunnigan\, California\, United States
CATEGORIES:Cocker Trial
GEO:38.885238;-121.96958
X-APPLE-STRUCTURED-LOCATION;VALUE=URI;X-ADDRESS=Raahauges Pheasant Club Dunnigan CA USA Dunnigan California United States;X-APPLE-RADIUS=500;X-TITLE=Dunnigan\, CA\, USA:geo:-121.96958,38.885238
END:VEVENT
END:VCALENDAR