BEGIN:VCALENDAR
VERSION:2.0
PRODID:-//English Springer Spaniel Field Trials - ECPv6.15.20//NONSGML v1.0//EN
CALSCALE:GREGORIAN
METHOD:PUBLISH
X-WR-CALNAME:English Springer Spaniel Field Trials
X-ORIGINAL-URL:https://essft.com
X-WR-CALDESC:Events for English Springer Spaniel Field Trials
REFRESH-INTERVAL;VALUE=DURATION:PT1H
X-Robots-Tag:noindex
X-PUBLISHED-TTL:PT1H
BEGIN:VTIMEZONE
TZID:America/Chicago
BEGIN:DAYLIGHT
TZOFFSETFROM:-0600
TZOFFSETTO:-0500
TZNAME:CDT
DTSTART:20200308T080000
END:DAYLIGHT
BEGIN:STANDARD
TZOFFSETFROM:-0500
TZOFFSETTO:-0600
TZNAME:CST
DTSTART:20201101T070000
END:STANDARD
BEGIN:DAYLIGHT
TZOFFSETFROM:-0600
TZOFFSETTO:-0500
TZNAME:CDT
DTSTART:20210314T080000
END:DAYLIGHT
BEGIN:STANDARD
TZOFFSETFROM:-0500
TZOFFSETTO:-0600
TZNAME:CST
DTSTART:20211107T070000
END:STANDARD
BEGIN:DAYLIGHT
TZOFFSETFROM:-0600
TZOFFSETTO:-0500
TZNAME:CDT
DTSTART:20220313T080000
END:DAYLIGHT
BEGIN:STANDARD
TZOFFSETFROM:-0500
TZOFFSETTO:-0600
TZNAME:CST
DTSTART:20221106T070000
END:STANDARD
END:VTIMEZONE
BEGIN:VEVENT
DTSTART;TZID=America/Chicago:20210924T000000
DTEND;TZID=America/Chicago:20210926T000000
DTSTAMP:20260422T120314
CREATED:20250613T034434Z
LAST-MODIFIED:20250613T034434Z
UID:75882-1632441600-1632614400@essft.com
SUMMARY:COCKER: Iowa Sporting Spaniel Club Water and 2 Trials
DESCRIPTION:Entries Close: Monday\, September 13\, 2021 11:59:59 PM Eastern Time(ET) on Hunt Secretary \nJudges for all 3 days: Ryan Lamberg and David Williams \nFriday – Water Test at 4:00 PM \nSaturday –  Open and Amateur at 7:30 AM \nSunday – Open at 7:30 AM \n 
URL:https://essft.com/event/cocker-iowa-sporting-spaniel-club-water-and-2-trials/
CATEGORIES:Cocker Trial
END:VEVENT
END:VCALENDAR