BEGIN:VCALENDAR
VERSION:2.0
PRODID:-//English Springer Spaniel Field Trials - ECPv6.15.20//NONSGML v1.0//EN
CALSCALE:GREGORIAN
METHOD:PUBLISH
X-WR-CALNAME:English Springer Spaniel Field Trials
X-ORIGINAL-URL:https://essft.com
X-WR-CALDESC:Events for English Springer Spaniel Field Trials
REFRESH-INTERVAL;VALUE=DURATION:PT1H
X-Robots-Tag:noindex
X-PUBLISHED-TTL:PT1H
BEGIN:VTIMEZONE
TZID:America/Chicago
BEGIN:DAYLIGHT
TZOFFSETFROM:-0600
TZOFFSETTO:-0500
TZNAME:CDT
DTSTART:20180311T080000
END:DAYLIGHT
BEGIN:STANDARD
TZOFFSETFROM:-0500
TZOFFSETTO:-0600
TZNAME:CST
DTSTART:20181104T070000
END:STANDARD
BEGIN:DAYLIGHT
TZOFFSETFROM:-0600
TZOFFSETTO:-0500
TZNAME:CDT
DTSTART:20190310T080000
END:DAYLIGHT
BEGIN:STANDARD
TZOFFSETFROM:-0500
TZOFFSETTO:-0600
TZNAME:CST
DTSTART:20191103T070000
END:STANDARD
BEGIN:DAYLIGHT
TZOFFSETFROM:-0600
TZOFFSETTO:-0500
TZNAME:CDT
DTSTART:20200308T080000
END:DAYLIGHT
BEGIN:STANDARD
TZOFFSETFROM:-0500
TZOFFSETTO:-0600
TZNAME:CST
DTSTART:20201101T070000
END:STANDARD
END:VTIMEZONE
BEGIN:VEVENT
DTSTART;TZID=America/Chicago:20191005T000000
DTEND;TZID=America/Chicago:20191006T000000
DTSTAMP:20260423T044540
CREATED:20250612T023608Z
LAST-MODIFIED:20250612T023608Z
UID:75414-1570233600-1570320000@essft.com
SUMMARY:Cocker: Maine Spaniel Field Trial Club
DESCRIPTION:Entries close with the Field Trial Secretary at 6:00 PM EST Sunday\, Sept. 29\, 2019 . \nWe now have an alternative method for entering this event.\nYou can register and enter at:\nwww.mainespanielfieldtrialclub.com/my-account/\nor mail entries with check or money order payable to the Maine\nSpaniel Field Trial Club (MSFTC) to:\nJack Klette\, Field Trial Secretary\n186 Lowe Street\, Leominster\, MA 01453 \n  \nJudges:  Patrick Keliher and Paul McGagh\n  \n  \n 
URL:https://essft.com/event/cocker-maine-spaniel-field-trial-club/
CATEGORIES:Cocker Trial
END:VEVENT
END:VCALENDAR