BEGIN:VCALENDAR
VERSION:2.0
PRODID:-//English Springer Spaniel Field Trials - ECPv6.15.20//NONSGML v1.0//EN
CALSCALE:GREGORIAN
METHOD:PUBLISH
X-WR-CALNAME:English Springer Spaniel Field Trials
X-ORIGINAL-URL:https://essft.com
X-WR-CALDESC:Events for English Springer Spaniel Field Trials
REFRESH-INTERVAL;VALUE=DURATION:PT1H
X-Robots-Tag:noindex
X-PUBLISHED-TTL:PT1H
BEGIN:VTIMEZONE
TZID:America/Chicago
BEGIN:DAYLIGHT
TZOFFSETFROM:-0600
TZOFFSETTO:-0500
TZNAME:CDT
DTSTART:20200308T080000
END:DAYLIGHT
BEGIN:STANDARD
TZOFFSETFROM:-0500
TZOFFSETTO:-0600
TZNAME:CST
DTSTART:20201101T070000
END:STANDARD
BEGIN:DAYLIGHT
TZOFFSETFROM:-0600
TZOFFSETTO:-0500
TZNAME:CDT
DTSTART:20210314T080000
END:DAYLIGHT
BEGIN:STANDARD
TZOFFSETFROM:-0500
TZOFFSETTO:-0600
TZNAME:CST
DTSTART:20211107T070000
END:STANDARD
BEGIN:DAYLIGHT
TZOFFSETFROM:-0600
TZOFFSETTO:-0500
TZNAME:CDT
DTSTART:20220313T080000
END:DAYLIGHT
BEGIN:STANDARD
TZOFFSETFROM:-0500
TZOFFSETTO:-0600
TZNAME:CST
DTSTART:20221106T070000
END:STANDARD
END:VTIMEZONE
BEGIN:VEVENT
DTSTART;TZID=America/Chicago:20211008T000000
DTEND;TZID=America/Chicago:20211010T000000
DTSTAMP:20260422T154859
CREATED:20250613T035248Z
LAST-MODIFIED:20250613T035248Z
UID:75903-1633651200-1633824000@essft.com
SUMMARY:Cocker: Spaniel Association of Western New York
DESCRIPTION:Entries Close: Tuesday\, September 28\, 2021 11:59:59 PM Eastern Time(ET) on Hunt Secretary \nFriday Judges:  Jack Markowski and Charles Urland \nSaturday/Sunday Judges:  Jack Markowski and Justin Smith
URL:https://essft.com/event/cocker-spaniel-association-of-western-new-york/
LOCATION:One Forty Five North\, LLC\, 8045 Tonawanda Creek Rd\, Lockport\, NY 14094\, USA\, Lockport\, New York\, 14094\, United States
CATEGORIES:Cocker Trial
GEO:43.08423;-78.589279
X-APPLE-STRUCTURED-LOCATION;VALUE=URI;X-ADDRESS=One Forty Five North LLC 8045 Tonawanda Creek Rd Lockport NY 14094 USA Lockport New York 14094 United States;X-APPLE-RADIUS=500;X-TITLE=8045 Tonawanda Creek Rd\, Lockport\, NY 14094\, USA:geo:-78.589279,43.08423
END:VEVENT
END:VCALENDAR