BEGIN:VCALENDAR
VERSION:2.0
PRODID:-//English Springer Spaniel Field Trials - ECPv6.15.20//NONSGML v1.0//EN
CALSCALE:GREGORIAN
METHOD:PUBLISH
X-WR-CALNAME:English Springer Spaniel Field Trials
X-ORIGINAL-URL:https://essft.com
X-WR-CALDESC:Events for English Springer Spaniel Field Trials
REFRESH-INTERVAL;VALUE=DURATION:PT1H
X-Robots-Tag:noindex
X-PUBLISHED-TTL:PT1H
BEGIN:VTIMEZONE
TZID:America/Chicago
BEGIN:DAYLIGHT
TZOFFSETFROM:-0600
TZOFFSETTO:-0500
TZNAME:CDT
DTSTART:20170312T080000
END:DAYLIGHT
BEGIN:STANDARD
TZOFFSETFROM:-0500
TZOFFSETTO:-0600
TZNAME:CST
DTSTART:20171105T070000
END:STANDARD
BEGIN:DAYLIGHT
TZOFFSETFROM:-0600
TZOFFSETTO:-0500
TZNAME:CDT
DTSTART:20180311T080000
END:DAYLIGHT
BEGIN:STANDARD
TZOFFSETFROM:-0500
TZOFFSETTO:-0600
TZNAME:CST
DTSTART:20181104T070000
END:STANDARD
BEGIN:DAYLIGHT
TZOFFSETFROM:-0600
TZOFFSETTO:-0500
TZNAME:CDT
DTSTART:20190310T080000
END:DAYLIGHT
BEGIN:STANDARD
TZOFFSETFROM:-0500
TZOFFSETTO:-0600
TZNAME:CST
DTSTART:20191103T070000
END:STANDARD
END:VTIMEZONE
BEGIN:VEVENT
DTSTART;TZID=America/Chicago:20180602T000000
DTEND;TZID=America/Chicago:20180603T000000
DTSTAMP:20260422T064337
CREATED:20250611T183313Z
LAST-MODIFIED:20250611T183313Z
UID:75019-1527897600-1527984000@essft.com
SUMMARY:Cocker Spaniel FTC of America - Hunt Test
DESCRIPTION:Entries close:  5/21/2018 on Entry Express \n 
URL:https://essft.com/event/cocker-spaniel-ftc-of-america-hunt-test/
LOCATION:Mid County Rod and Gun Club\, 650 Waterbury Hill Rd\, Lagrangeville\, NY 12540\, USA\, Lagrangeville\, New York\, 12540\, United States
CATEGORIES:Hunt Tests
GEO:41.69856;-73.706758
X-APPLE-STRUCTURED-LOCATION;VALUE=URI;X-ADDRESS=Mid County Rod and Gun Club 650 Waterbury Hill Rd Lagrangeville NY 12540 USA Lagrangeville New York 12540 United States;X-APPLE-RADIUS=500;X-TITLE=650 Waterbury Hill Rd\, Lagrangeville\, NY 12540\, USA:geo:-73.706758,41.69856
END:VEVENT
END:VCALENDAR