BEGIN:VCALENDAR
VERSION:2.0
PRODID:-//English Springer Spaniel Field Trials - ECPv6.15.20//NONSGML v1.0//EN
CALSCALE:GREGORIAN
METHOD:PUBLISH
X-WR-CALNAME:English Springer Spaniel Field Trials
X-ORIGINAL-URL:https://essft.com
X-WR-CALDESC:Events for English Springer Spaniel Field Trials
REFRESH-INTERVAL;VALUE=DURATION:PT1H
X-Robots-Tag:noindex
X-PUBLISHED-TTL:PT1H
BEGIN:VTIMEZONE
TZID:America/Chicago
BEGIN:DAYLIGHT
TZOFFSETFROM:-0600
TZOFFSETTO:-0500
TZNAME:CDT
DTSTART:20220313T080000
END:DAYLIGHT
BEGIN:STANDARD
TZOFFSETFROM:-0500
TZOFFSETTO:-0600
TZNAME:CST
DTSTART:20221106T070000
END:STANDARD
BEGIN:DAYLIGHT
TZOFFSETFROM:-0600
TZOFFSETTO:-0500
TZNAME:CDT
DTSTART:20230312T080000
END:DAYLIGHT
BEGIN:STANDARD
TZOFFSETFROM:-0500
TZOFFSETTO:-0600
TZNAME:CST
DTSTART:20231105T070000
END:STANDARD
BEGIN:DAYLIGHT
TZOFFSETFROM:-0600
TZOFFSETTO:-0500
TZNAME:CDT
DTSTART:20240310T080000
END:DAYLIGHT
BEGIN:STANDARD
TZOFFSETFROM:-0500
TZOFFSETTO:-0600
TZNAME:CST
DTSTART:20241103T070000
END:STANDARD
END:VTIMEZONE
BEGIN:VEVENT
DTSTART;TZID=America/Chicago:20230320T000000
DTEND;TZID=America/Chicago:20230321T000000
DTSTAMP:20260422T042809
CREATED:20250613T164955Z
LAST-MODIFIED:20250613T164955Z
UID:76284-1679270400-1679356800@essft.com
SUMMARY:COCKER: Springer Spaniel Club of Central Kansas
DESCRIPTION:Entries Close: Monday\, March 6\, 2023 11:59:59 PM Eastern Time(ET) on Hunt Secretary \nJudges: Morgan Haglin and Dean Reinke
URL:https://essft.com/event/cocker-springer-spaniel-club-of-central-kansas/
LOCATION:Springer Hollow Farm\, 12826 SW 77 Ave\, Zenda\, KS 67159\, USA\, Zenda\, Kansas\, 67159\, United States
CATEGORIES:Cocker Trial
GEO:37.460004;-98.259078
X-APPLE-STRUCTURED-LOCATION;VALUE=URI;X-ADDRESS=Springer Hollow Farm 12826 SW 77 Ave Zenda KS 67159 USA Zenda Kansas 67159 United States;X-APPLE-RADIUS=500;X-TITLE=12826 SW 77 Ave\, Zenda\, KS 67159\, USA:geo:-98.259078,37.460004
END:VEVENT
END:VCALENDAR