BEGIN:VCALENDAR
VERSION:2.0
PRODID:-//English Springer Spaniel Field Trials - ECPv6.15.20//NONSGML v1.0//EN
CALSCALE:GREGORIAN
METHOD:PUBLISH
X-WR-CALNAME:English Springer Spaniel Field Trials
X-ORIGINAL-URL:https://essft.com
X-WR-CALDESC:Events for English Springer Spaniel Field Trials
REFRESH-INTERVAL;VALUE=DURATION:PT1H
X-Robots-Tag:noindex
X-PUBLISHED-TTL:PT1H
BEGIN:VTIMEZONE
TZID:America/Chicago
BEGIN:DAYLIGHT
TZOFFSETFROM:-0600
TZOFFSETTO:-0500
TZNAME:CDT
DTSTART:20190310T080000
END:DAYLIGHT
BEGIN:STANDARD
TZOFFSETFROM:-0500
TZOFFSETTO:-0600
TZNAME:CST
DTSTART:20191103T070000
END:STANDARD
BEGIN:DAYLIGHT
TZOFFSETFROM:-0600
TZOFFSETTO:-0500
TZNAME:CDT
DTSTART:20200308T080000
END:DAYLIGHT
BEGIN:STANDARD
TZOFFSETFROM:-0500
TZOFFSETTO:-0600
TZNAME:CST
DTSTART:20201101T070000
END:STANDARD
BEGIN:DAYLIGHT
TZOFFSETFROM:-0600
TZOFFSETTO:-0500
TZNAME:CDT
DTSTART:20210314T080000
END:DAYLIGHT
BEGIN:STANDARD
TZOFFSETFROM:-0500
TZOFFSETTO:-0600
TZNAME:CST
DTSTART:20211107T070000
END:STANDARD
END:VTIMEZONE
BEGIN:VEVENT
DTSTART;TZID=America/Chicago:20200403T000000
DTEND;TZID=America/Chicago:20200404T000000
DTSTAMP:20260425T100436
CREATED:20250612T032359Z
LAST-MODIFIED:20250612T032359Z
UID:75548-1585872000-1585958400@essft.com
SUMMARY:COCKER: TIMPANOGOS HUNTING SPANIEL CLUB
DESCRIPTION:Entries will close with the Field Trial Secretary at 11 p.m. MDT\, Wednesday\, March 25th\, 2020 \nJudges: Rick Paquin and Rob Barlow\n 
URL:https://essft.com/event/cocker-timpanogos-hunting-spaniel-club/
LOCATION:Clarkston Trial Grounds\, 4900 W 11000 N\, Clarkston\, UT 84305\, USA\, Clarkston\, Utah\, 84305\, United States
CATEGORIES:Cocker Trial
GEO:41.931805;-112.01117
X-APPLE-STRUCTURED-LOCATION;VALUE=URI;X-ADDRESS=Clarkston Trial Grounds 4900 W 11000 N Clarkston UT 84305 USA Clarkston Utah 84305 United States;X-APPLE-RADIUS=500;X-TITLE=4900 W 11000 N\, Clarkston\, UT 84305\, USA:geo:-112.01117,41.931805
END:VEVENT
END:VCALENDAR