BEGIN:VCALENDAR
VERSION:2.0
PRODID:-//English Springer Spaniel Field Trials - ECPv6.15.20//NONSGML v1.0//EN
CALSCALE:GREGORIAN
METHOD:PUBLISH
X-WR-CALNAME:English Springer Spaniel Field Trials
X-ORIGINAL-URL:https://essft.com
X-WR-CALDESC:Events for English Springer Spaniel Field Trials
REFRESH-INTERVAL;VALUE=DURATION:PT1H
X-Robots-Tag:noindex
X-PUBLISHED-TTL:PT1H
BEGIN:VTIMEZONE
TZID:America/Chicago
BEGIN:DAYLIGHT
TZOFFSETFROM:-0600
TZOFFSETTO:-0500
TZNAME:CDT
DTSTART:20210314T080000
END:DAYLIGHT
BEGIN:STANDARD
TZOFFSETFROM:-0500
TZOFFSETTO:-0600
TZNAME:CST
DTSTART:20211107T070000
END:STANDARD
BEGIN:DAYLIGHT
TZOFFSETFROM:-0600
TZOFFSETTO:-0500
TZNAME:CDT
DTSTART:20220313T080000
END:DAYLIGHT
BEGIN:STANDARD
TZOFFSETFROM:-0500
TZOFFSETTO:-0600
TZNAME:CST
DTSTART:20221106T070000
END:STANDARD
BEGIN:DAYLIGHT
TZOFFSETFROM:-0600
TZOFFSETTO:-0500
TZNAME:CDT
DTSTART:20230312T080000
END:DAYLIGHT
BEGIN:STANDARD
TZOFFSETFROM:-0500
TZOFFSETTO:-0600
TZNAME:CST
DTSTART:20231105T070000
END:STANDARD
END:VTIMEZONE
BEGIN:VEVENT
DTSTART;TZID=America/Chicago:20220129T000000
DTEND;TZID=America/Chicago:20220130T000000
DTSTAMP:20260422T150345
CREATED:20250613T043216Z
LAST-MODIFIED:20250613T043216Z
UID:75974-1643414400-1643500800@essft.com
SUMMARY:COCKER: Wateree Spaniel Club Cocker Field Trial
DESCRIPTION:Entries Close: Tuesday\, January 18\, 2022 11:59:59 PM Eastern Time(ET) on Hunt Secretary \nJudges: Mark Haglin and Morgan Haglin\nWe are hosting a judging seminar is going along with this Field Trial \nPlease click on Wateree Judging Seminar Information to enter the Seminar. \n\n		\n			\n			\n		\n\n		\n 
URL:https://essft.com/event/cocker-wateree-spaniel-club-cocker-field-trial-2/
LOCATION:H. Cooper Black Jr. Memorial Field Trial & Recreation Area\, Cheraw\, SC 29520\, USA\, Cheraw\, South Carolina\, 29520\, United States
CATEGORIES:Cocker Trial
GEO:34.697656;-79.883397
X-APPLE-STRUCTURED-LOCATION;VALUE=URI;X-ADDRESS=H. Cooper Black Jr. Memorial Field Trial & Recreation Area Cheraw SC 29520 USA Cheraw South Carolina 29520 United States;X-APPLE-RADIUS=500;X-TITLE=Cheraw\, SC 29520\, USA:geo:-79.883397,34.697656
END:VEVENT
END:VCALENDAR