BEGIN:VCALENDAR
VERSION:2.0
PRODID:-//English Springer Spaniel Field Trials - ECPv6.15.20//NONSGML v1.0//EN
CALSCALE:GREGORIAN
METHOD:PUBLISH
X-WR-CALNAME:English Springer Spaniel Field Trials
X-ORIGINAL-URL:https://essft.com
X-WR-CALDESC:Events for English Springer Spaniel Field Trials
REFRESH-INTERVAL;VALUE=DURATION:PT1H
X-Robots-Tag:noindex
X-PUBLISHED-TTL:PT1H
BEGIN:VTIMEZONE
TZID:America/Chicago
BEGIN:DAYLIGHT
TZOFFSETFROM:-0600
TZOFFSETTO:-0500
TZNAME:CDT
DTSTART:20220313T080000
END:DAYLIGHT
BEGIN:STANDARD
TZOFFSETFROM:-0500
TZOFFSETTO:-0600
TZNAME:CST
DTSTART:20221106T070000
END:STANDARD
BEGIN:DAYLIGHT
TZOFFSETFROM:-0600
TZOFFSETTO:-0500
TZNAME:CDT
DTSTART:20230312T080000
END:DAYLIGHT
BEGIN:STANDARD
TZOFFSETFROM:-0500
TZOFFSETTO:-0600
TZNAME:CST
DTSTART:20231105T070000
END:STANDARD
BEGIN:DAYLIGHT
TZOFFSETFROM:-0600
TZOFFSETTO:-0500
TZNAME:CDT
DTSTART:20240310T080000
END:DAYLIGHT
BEGIN:STANDARD
TZOFFSETFROM:-0500
TZOFFSETTO:-0600
TZNAME:CST
DTSTART:20241103T070000
END:STANDARD
END:VTIMEZONE
BEGIN:VEVENT
DTSTART;TZID=America/Chicago:20230121T000000
DTEND;TZID=America/Chicago:20230122T000000
DTSTAMP:20260422T042856
CREATED:20250613T164131Z
LAST-MODIFIED:20250613T164131Z
UID:76240-1674259200-1674345600@essft.com
SUMMARY:English Cocker Spaniel Club of America Field Trial
DESCRIPTION:Entries Close: Tuesday\, January 10\, 2023 11:59:59 PM Eastern Time(ET) on Hunt Secretary \nJudges: Pat Keliher and Keith Meissner \n 
URL:https://essft.com/event/english-cocker-spaniel-club-of-america-field-trial/
LOCATION:Lime Rock Cockers Preserve\, East Bend\, NC 27018\, USA\, East Bend\, North Carolina\, 27018\, United States
CATEGORIES:Cocker Trial
GEO:36.216528;-80.512558
X-APPLE-STRUCTURED-LOCATION;VALUE=URI;X-ADDRESS=Lime Rock Cockers Preserve East Bend NC 27018 USA East Bend North Carolina 27018 United States;X-APPLE-RADIUS=500;X-TITLE=East Bend\, NC 27018\, USA:geo:-80.512558,36.216528
END:VEVENT
END:VCALENDAR