BEGIN:VCALENDAR
VERSION:2.0
PRODID:-//English Springer Spaniel Field Trials - ECPv6.15.20//NONSGML v1.0//EN
CALSCALE:GREGORIAN
METHOD:PUBLISH
X-WR-CALNAME:English Springer Spaniel Field Trials
X-ORIGINAL-URL:https://essft.com
X-WR-CALDESC:Events for English Springer Spaniel Field Trials
REFRESH-INTERVAL;VALUE=DURATION:PT1H
X-Robots-Tag:noindex
X-PUBLISHED-TTL:PT1H
BEGIN:VTIMEZONE
TZID:America/Chicago
BEGIN:DAYLIGHT
TZOFFSETFROM:-0600
TZOFFSETTO:-0500
TZNAME:CDT
DTSTART:20170312T080000
END:DAYLIGHT
BEGIN:STANDARD
TZOFFSETFROM:-0500
TZOFFSETTO:-0600
TZNAME:CST
DTSTART:20171105T070000
END:STANDARD
BEGIN:DAYLIGHT
TZOFFSETFROM:-0600
TZOFFSETTO:-0500
TZNAME:CDT
DTSTART:20180311T080000
END:DAYLIGHT
BEGIN:STANDARD
TZOFFSETFROM:-0500
TZOFFSETTO:-0600
TZNAME:CST
DTSTART:20181104T070000
END:STANDARD
BEGIN:DAYLIGHT
TZOFFSETFROM:-0600
TZOFFSETTO:-0500
TZNAME:CDT
DTSTART:20190310T080000
END:DAYLIGHT
BEGIN:STANDARD
TZOFFSETFROM:-0500
TZOFFSETTO:-0600
TZNAME:CST
DTSTART:20191103T070000
END:STANDARD
END:VTIMEZONE
BEGIN:VEVENT
DTSTART;TZID=America/Chicago:20181027T000000
DTEND;TZID=America/Chicago:20181028T000000
DTSTAMP:20260424T020624
CREATED:20250611T200600Z
LAST-MODIFIED:20250611T200600Z
UID:75140-1540598400-1540684800@essft.com
SUMMARY:English Springer Spaniel Club of the Central States
DESCRIPTION:Entries Close: Tuesday – October 16\, 2018 at 08:00 AM \nJudges:  Rick Paquin & Joe Stallman\nCentStates OpenPup RO2018 MS EXCEL \n\n		\n			\n			\n		\n\n		\n  \nFYI – Amateur RO updated 10:00PM CST on 10/25/2018 \nCentStatesAmat RO2018 Version 2 MS EXCEL \n\n		\n			\n			\n		\n\n		\n  \n\n		\n			\n			\n		\n\n		\n  \n\n		\n			\n			\n		\n\n		\n  \nCLICK HERE for CentStates fillable Entry Form Fall 2018 \n  \n[wunderground location=”Elizabeth\, IL” numdays=”5″ showdata=”alert\,daynames\,pop\,icon\,highlow\,conditions\,date” layout=”table-horizontal”] \n 
URL:https://essft.com/event/english-springer-spaniel-club-of-the-central-states/
LOCATION:Fox Ridge Farm\, 4640 S Madison Rd\, Elizabeth\, IL 61028\, USA\, Elizabeth\, Illinois\, 61028\, United States
CATEGORIES:Field Trials - Mid West
GEO:42.306416;-90.217998
X-APPLE-STRUCTURED-LOCATION;VALUE=URI;X-ADDRESS=Fox Ridge Farm 4640 S Madison Rd Elizabeth IL 61028 USA Elizabeth Illinois 61028 United States;X-APPLE-RADIUS=500;X-TITLE=4640 S Madison Rd\, Elizabeth\, IL 61028\, USA:geo:-90.217998,42.306416
END:VEVENT
END:VCALENDAR