BEGIN:VCALENDAR
VERSION:2.0
PRODID:-//English Springer Spaniel Field Trials - ECPv6.15.20//NONSGML v1.0//EN
CALSCALE:GREGORIAN
METHOD:PUBLISH
X-WR-CALNAME:English Springer Spaniel Field Trials
X-ORIGINAL-URL:https://essft.com
X-WR-CALDESC:Events for English Springer Spaniel Field Trials
REFRESH-INTERVAL;VALUE=DURATION:PT1H
X-Robots-Tag:noindex
X-PUBLISHED-TTL:PT1H
BEGIN:VTIMEZONE
TZID:America/Chicago
BEGIN:DAYLIGHT
TZOFFSETFROM:-0600
TZOFFSETTO:-0500
TZNAME:CDT
DTSTART:20170312T080000
END:DAYLIGHT
BEGIN:STANDARD
TZOFFSETFROM:-0500
TZOFFSETTO:-0600
TZNAME:CST
DTSTART:20171105T070000
END:STANDARD
BEGIN:DAYLIGHT
TZOFFSETFROM:-0600
TZOFFSETTO:-0500
TZNAME:CDT
DTSTART:20180311T080000
END:DAYLIGHT
BEGIN:STANDARD
TZOFFSETFROM:-0500
TZOFFSETTO:-0600
TZNAME:CST
DTSTART:20181104T070000
END:STANDARD
BEGIN:DAYLIGHT
TZOFFSETFROM:-0600
TZOFFSETTO:-0500
TZNAME:CDT
DTSTART:20190310T080000
END:DAYLIGHT
BEGIN:STANDARD
TZOFFSETFROM:-0500
TZOFFSETTO:-0600
TZNAME:CST
DTSTART:20191103T070000
END:STANDARD
END:VTIMEZONE
BEGIN:VEVENT
DTSTART;TZID=America/Chicago:20180317T000000
DTEND;TZID=America/Chicago:20180318T000000
DTSTAMP:20260423T172357
CREATED:20250611T181129Z
LAST-MODIFIED:20250611T181129Z
UID:74965-1521244800-1521331200@essft.com
SUMMARY:ESS FT Club of Illinois
DESCRIPTION:Entries Close: Tuesday\, March 6\, 2018 with the FTS \nJudges: Kevin Martineau and Rumi Schroeder\n  \n\n		\n			\n			\n		\n\n		\n  \n  \nRunning Orders\nAll Age updated 12March2018! \n\n		\n			\n			\n		\n\n		\n  \n\n		\n			\n			\n		\n\n		\n  \n  \n  \n  \n2018 ESSFTIL Spring Premium & Entry Forms MS WORD \n\n		\n			\n			\n		\n\n		\n\n		\n			\n			\n		\n\n		\n  \n[wunderground location=”Wilmington\, IL” numdays=”5″ showdata=”alert\,daynames\,pop\,icon\,highlow\,conditions\,date” layout=”table-horizontal”] \n 
URL:https://essft.com/event/ess-ft-club-of-illinois-2/
LOCATION:Des PLaines Fish & Wildlife Area\, Wilmington\, IL 60481\, USA\, Wilmington\, Illinois\, 60481\, United States
CATEGORIES:Field Trials - Mid West
GEO:41.307809;-88.146724
X-APPLE-STRUCTURED-LOCATION;VALUE=URI;X-ADDRESS=Des PLaines Fish & Wildlife Area Wilmington IL 60481 USA Wilmington Illinois 60481 United States;X-APPLE-RADIUS=500;X-TITLE=Wilmington\, IL 60481\, USA:geo:-88.146724,41.307809
END:VEVENT
END:VCALENDAR