BEGIN:VCALENDAR
VERSION:2.0
PRODID:-//English Springer Spaniel Field Trials - ECPv6.15.20//NONSGML v1.0//EN
CALSCALE:GREGORIAN
METHOD:PUBLISH
X-WR-CALNAME:English Springer Spaniel Field Trials
X-ORIGINAL-URL:https://essft.com
X-WR-CALDESC:Events for English Springer Spaniel Field Trials
REFRESH-INTERVAL;VALUE=DURATION:PT1H
X-Robots-Tag:noindex
X-PUBLISHED-TTL:PT1H
BEGIN:VTIMEZONE
TZID:America/Chicago
BEGIN:DAYLIGHT
TZOFFSETFROM:-0600
TZOFFSETTO:-0500
TZNAME:CDT
DTSTART:20190310T080000
END:DAYLIGHT
BEGIN:STANDARD
TZOFFSETFROM:-0500
TZOFFSETTO:-0600
TZNAME:CST
DTSTART:20191103T070000
END:STANDARD
BEGIN:DAYLIGHT
TZOFFSETFROM:-0600
TZOFFSETTO:-0500
TZNAME:CDT
DTSTART:20200308T080000
END:DAYLIGHT
BEGIN:STANDARD
TZOFFSETFROM:-0500
TZOFFSETTO:-0600
TZNAME:CST
DTSTART:20201101T070000
END:STANDARD
BEGIN:DAYLIGHT
TZOFFSETFROM:-0600
TZOFFSETTO:-0500
TZNAME:CDT
DTSTART:20210314T080000
END:DAYLIGHT
BEGIN:STANDARD
TZOFFSETFROM:-0500
TZOFFSETTO:-0600
TZNAME:CST
DTSTART:20211107T070000
END:STANDARD
END:VTIMEZONE
BEGIN:VEVENT
DTSTART;TZID=America/Chicago:20201024T000000
DTEND;TZID=America/Chicago:20201025T000000
DTSTAMP:20260422T142532
CREATED:20250613T024242Z
LAST-MODIFIED:20250613T024242Z
UID:75686-1603497600-1603584000@essft.com
SUMMARY:ESSC of the Central States
DESCRIPTION:Entries Close: With the Field Trial Secretary on Tuesday\, October 13\, 2020 at 8:00 pm \nJudges: Garry Soper & Trent Bosse\nClick here forCentralStates 2020 field trial Fillable Entry \n\n		\n			\n			\n		\n\n		\n  \n\n		\n			\n			\n		\n\n		\n  \n 
URL:https://essft.com/event/essc-of-the-central-states/
LOCATION:Fox Ridge Farm\, 4640 S Madison Rd\, Elizabeth\, IL 61028\, USA\, Elizabeth\, Illinois\, 61028\, United States
CATEGORIES:Field Trials - Mid West
ORGANIZER;CN="Lisa Schmeling%2C FTS":MAILTO:lmschmeling@gmail.com
GEO:42.306416;-90.217998
X-APPLE-STRUCTURED-LOCATION;VALUE=URI;X-ADDRESS=Fox Ridge Farm 4640 S Madison Rd Elizabeth IL 61028 USA Elizabeth Illinois 61028 United States;X-APPLE-RADIUS=500;X-TITLE=4640 S Madison Rd\, Elizabeth\, IL 61028\, USA:geo:-90.217998,42.306416
END:VEVENT
END:VCALENDAR