BEGIN:VCALENDAR
VERSION:2.0
PRODID:-//English Springer Spaniel Field Trials - ECPv6.15.20//NONSGML v1.0//EN
CALSCALE:GREGORIAN
METHOD:PUBLISH
X-WR-CALNAME:English Springer Spaniel Field Trials
X-ORIGINAL-URL:https://essft.com
X-WR-CALDESC:Events for English Springer Spaniel Field Trials
REFRESH-INTERVAL;VALUE=DURATION:PT1H
X-Robots-Tag:noindex
X-PUBLISHED-TTL:PT1H
BEGIN:VTIMEZONE
TZID:America/Chicago
BEGIN:DAYLIGHT
TZOFFSETFROM:-0600
TZOFFSETTO:-0500
TZNAME:CDT
DTSTART:20190310T080000
END:DAYLIGHT
BEGIN:STANDARD
TZOFFSETFROM:-0500
TZOFFSETTO:-0600
TZNAME:CST
DTSTART:20191103T070000
END:STANDARD
BEGIN:DAYLIGHT
TZOFFSETFROM:-0600
TZOFFSETTO:-0500
TZNAME:CDT
DTSTART:20200308T080000
END:DAYLIGHT
BEGIN:STANDARD
TZOFFSETFROM:-0500
TZOFFSETTO:-0600
TZNAME:CST
DTSTART:20201101T070000
END:STANDARD
BEGIN:DAYLIGHT
TZOFFSETFROM:-0600
TZOFFSETTO:-0500
TZNAME:CDT
DTSTART:20210314T080000
END:DAYLIGHT
BEGIN:STANDARD
TZOFFSETFROM:-0500
TZOFFSETTO:-0600
TZNAME:CST
DTSTART:20211107T070000
END:STANDARD
END:VTIMEZONE
BEGIN:VEVENT
DTSTART;TZID=America/Chicago:20200306T000000
DTEND;TZID=America/Chicago:20200308T000000
DTSTAMP:20260424T052519
CREATED:20250612T031928Z
LAST-MODIFIED:20250612T031928Z
UID:75527-1583452800-1583625600@essft.com
SUMMARY:Gun Dog Seminar by Todd Agnew  March 6-8\, 2020 in Mitchell\, Georgia
DESCRIPTION:Dogs and participants will be limited so contact us to reserve your slot…it is likely that they will fill quickly. We will be covering our entire program from an 8-week old puppy to a finished gun dog with all the exposure\, shaping\, obedience training and field training that is required. This is for gun dogs\, hunt test participants and those with field trial aspirations. You can train your own dog\, you probably just need some guidance on how to get the job done. \nClick Here to Sign Up! \n\n\n\n\n\n\n\n\n\n\n\n\n\n\n\n\n\n\n\n\n\n 
URL:https://essft.com/event/gun-dog-seminar-by-todd-agnew-march-6-8-2020-in-mitchell-georgia/
CATEGORIES:Training Seminar
END:VEVENT
END:VCALENDAR