BEGIN:VCALENDAR
VERSION:2.0
PRODID:-//English Springer Spaniel Field Trials - ECPv6.15.20//NONSGML v1.0//EN
CALSCALE:GREGORIAN
METHOD:PUBLISH
X-WR-CALNAME:English Springer Spaniel Field Trials
X-ORIGINAL-URL:https://essft.com
X-WR-CALDESC:Events for English Springer Spaniel Field Trials
REFRESH-INTERVAL;VALUE=DURATION:PT1H
X-Robots-Tag:noindex
X-PUBLISHED-TTL:PT1H
BEGIN:VTIMEZONE
TZID:America/Chicago
BEGIN:DAYLIGHT
TZOFFSETFROM:-0600
TZOFFSETTO:-0500
TZNAME:CDT
DTSTART:20180311T080000
END:DAYLIGHT
BEGIN:STANDARD
TZOFFSETFROM:-0500
TZOFFSETTO:-0600
TZNAME:CST
DTSTART:20181104T070000
END:STANDARD
BEGIN:DAYLIGHT
TZOFFSETFROM:-0600
TZOFFSETTO:-0500
TZNAME:CDT
DTSTART:20190310T080000
END:DAYLIGHT
BEGIN:STANDARD
TZOFFSETFROM:-0500
TZOFFSETTO:-0600
TZNAME:CST
DTSTART:20191103T070000
END:STANDARD
BEGIN:DAYLIGHT
TZOFFSETFROM:-0600
TZOFFSETTO:-0500
TZNAME:CDT
DTSTART:20200308T080000
END:DAYLIGHT
BEGIN:STANDARD
TZOFFSETFROM:-0500
TZOFFSETTO:-0600
TZNAME:CST
DTSTART:20201101T070000
END:STANDARD
END:VTIMEZONE
BEGIN:VEVENT
DTSTART;TZID=America/Chicago:20190208T000000
DTEND;TZID=America/Chicago:20190209T000000
DTSTAMP:20260425T134437
CREATED:20250611T201902Z
LAST-MODIFIED:20250611T201902Z
UID:75197-1549584000-1549670400@essft.com
SUMMARY:Hall of Fame Trial #2  - Volunteer English Springer Spaniel Club
DESCRIPTION:Entries Close: Monday\, January 28\, 2019 11:59:59 PM Eastern Time(ET) on Hunt Secretary \nJudges: Alex Stewart and Deborah Olszewski\n  \nNote: There are multiple pages of the Running Order. \n\n		\n			\n			\n		\n\n		\n  \n\n		\n			\n			\n		\n\n		\n\n		\n			\n			\n		\n\n		\n  \n  \nThe main grounds are located in Grand Junction\, TN. The Bird Dog Museum is located at 505 Hwy 57 in Grand Junction. Go east and turn north onto Tippah Street (right by the Junction Inn). Turn right onto Old Grand Junction Rd and follow the flags.\n\nFrom Memphis/Collierville: Follow Hwy 57 to LaGrange TN. When it deadends into Hwy 18\, turn left. Then there is an almost immediate right back onto Hwy 57 (Bank of Fayette County is located at this intersection). Head east past the Bird Dog Museum and turn left onto Tippah St\, then right on Old Grand Junction Rd. There will be flags and directional signs to lead you to the grounds.\n\n\n\n\n[wunderground location=”Grand Junction\, TN” numdays=”5″ showdata=”alert\,daynames\,pop\,icon\,highlow\,conditions\,date” layout=”table-horizontal”] \n 
URL:https://essft.com/event/hall-of-fame-trial-2-volunteer-english-springer-spaniel-club/
LOCATION:Shearon Farm and Cowan Farm\, La Grange\, TN\, USA\, La Grange\, Tennessee\, United States
CATEGORIES:Field Trials - Rocky Mountain
GEO:35.045367;-89.24368
X-APPLE-STRUCTURED-LOCATION;VALUE=URI;X-ADDRESS=Shearon Farm and Cowan Farm La Grange TN USA La Grange Tennessee United States;X-APPLE-RADIUS=500;X-TITLE=La Grange\, TN\, USA:geo:-89.24368,35.045367
END:VEVENT
END:VCALENDAR