BEGIN:VCALENDAR
VERSION:2.0
PRODID:-//English Springer Spaniel Field Trials - ECPv6.15.20//NONSGML v1.0//EN
CALSCALE:GREGORIAN
METHOD:PUBLISH
X-WR-CALNAME:English Springer Spaniel Field Trials
X-ORIGINAL-URL:https://essft.com
X-WR-CALDESC:Events for English Springer Spaniel Field Trials
REFRESH-INTERVAL;VALUE=DURATION:PT1H
X-Robots-Tag:noindex
X-PUBLISHED-TTL:PT1H
BEGIN:VTIMEZONE
TZID:America/Chicago
BEGIN:DAYLIGHT
TZOFFSETFROM:-0600
TZOFFSETTO:-0500
TZNAME:CDT
DTSTART:20190310T080000
END:DAYLIGHT
BEGIN:STANDARD
TZOFFSETFROM:-0500
TZOFFSETTO:-0600
TZNAME:CST
DTSTART:20191103T070000
END:STANDARD
BEGIN:DAYLIGHT
TZOFFSETFROM:-0600
TZOFFSETTO:-0500
TZNAME:CDT
DTSTART:20200308T080000
END:DAYLIGHT
BEGIN:STANDARD
TZOFFSETFROM:-0500
TZOFFSETTO:-0600
TZNAME:CST
DTSTART:20201101T070000
END:STANDARD
BEGIN:DAYLIGHT
TZOFFSETFROM:-0600
TZOFFSETTO:-0500
TZNAME:CDT
DTSTART:20210314T080000
END:DAYLIGHT
BEGIN:STANDARD
TZOFFSETFROM:-0500
TZOFFSETTO:-0600
TZNAME:CST
DTSTART:20211107T070000
END:STANDARD
END:VTIMEZONE
BEGIN:VEVENT
DTSTART;TZID=America/Chicago:20200924T000000
DTEND;TZID=America/Chicago:20200925T000000
DTSTAMP:20260424T020244
CREATED:20250612T042044Z
LAST-MODIFIED:20250612T042044Z
UID:75627-1600905600-1600992000@essft.com
SUMMARY:Iowa Sporting Spaniel Club
DESCRIPTION:Entries Close: Monday\, September 14\, 2020 11:59:59 PM Eastern Time(ET) on Hunt Secretary \nJudges:   Kathy Sleavin and Elaine (Vanderslice) O’Keefe\n  \nThursday:  ESS Open and ESS Water Test \nFriday:  ESS Amateur and Cocker Open #1  Alternating \nSaturday: Cocker Open #2 and Amateur (Judges: Mark Mercie and Tom Menzel) \nSunday:  Cocker Open #3 (Judges: Mark Mercie and Tom Menzel)
URL:https://essft.com/event/iowa-sporting-spaniel-club-2/
CATEGORIES:Field Trials - Mid West
END:VEVENT
END:VCALENDAR