BEGIN:VCALENDAR
VERSION:2.0
PRODID:-//English Springer Spaniel Field Trials - ECPv6.15.20//NONSGML v1.0//EN
CALSCALE:GREGORIAN
METHOD:PUBLISH
X-WR-CALNAME:English Springer Spaniel Field Trials
X-ORIGINAL-URL:https://essft.com
X-WR-CALDESC:Events for English Springer Spaniel Field Trials
REFRESH-INTERVAL;VALUE=DURATION:PT1H
X-Robots-Tag:noindex
X-PUBLISHED-TTL:PT1H
BEGIN:VTIMEZONE
TZID:America/Chicago
BEGIN:DAYLIGHT
TZOFFSETFROM:-0600
TZOFFSETTO:-0500
TZNAME:CDT
DTSTART:20170312T080000
END:DAYLIGHT
BEGIN:STANDARD
TZOFFSETFROM:-0500
TZOFFSETTO:-0600
TZNAME:CST
DTSTART:20171105T070000
END:STANDARD
BEGIN:DAYLIGHT
TZOFFSETFROM:-0600
TZOFFSETTO:-0500
TZNAME:CDT
DTSTART:20180311T080000
END:DAYLIGHT
BEGIN:STANDARD
TZOFFSETFROM:-0500
TZOFFSETTO:-0600
TZNAME:CST
DTSTART:20181104T070000
END:STANDARD
BEGIN:DAYLIGHT
TZOFFSETFROM:-0600
TZOFFSETTO:-0500
TZNAME:CDT
DTSTART:20190310T080000
END:DAYLIGHT
BEGIN:STANDARD
TZOFFSETFROM:-0500
TZOFFSETTO:-0600
TZNAME:CST
DTSTART:20191103T070000
END:STANDARD
END:VTIMEZONE
BEGIN:VEVENT
DTSTART;TZID=America/Chicago:20180427T000000
DTEND;TZID=America/Chicago:20180427T000000
DTSTAMP:20260423T172401
CREATED:20250611T183013Z
LAST-MODIFIED:20250611T183013Z
UID:74994-1524787200-1524787200@essft.com
SUMMARY:Iowa Sporting Spaniel Club  Trial #1
DESCRIPTION:Entries Close: Tuesday\, April 17\, 2018  on Hunt Secretary \nJudges: Randy Bartsch and Randy Manore\n  \nFriday’s Running Orders\n\n		\n			\n			\n		\n\n		\n  \nSaturday and Sunday’s Running Orders\n\n		\n			\n			\n		\n\n		\n  \n  \n  \n  \nPLEASE READ: \n\nThese are new grounds!  If the ground is wet we will NOT be allowing UTVs on the course.\n This is a 3 day event.  Friday and Saturday will each have an Open and Sunday is an Amateur. \n The club will be using Chukar. \n\n  \n \n  \n \n\n		\n			\n			\n		\n\n		\n  \n[wunderground location=”Monroe\, IA” numdays=”5″ showdata=”alert\,daynames\,pop\,icon\,highlow\,conditions\,date” layout=”table-horizontal”] \n 
URL:https://essft.com/event/iowa-sporting-spaniel-club-trial-1/
LOCATION:Mike Nolan Farm\, 2941 Rosebud Ave\, Monroe\, IA 50170\, USA\, Monroe\, Iowa\, 50170\, United States
CATEGORIES:Field Trials - Mid West
GEO:41.531214;-93.086823
X-APPLE-STRUCTURED-LOCATION;VALUE=URI;X-ADDRESS=Mike Nolan Farm 2941 Rosebud Ave Monroe IA 50170 USA Monroe Iowa 50170 United States;X-APPLE-RADIUS=500;X-TITLE=2941 Rosebud Ave\, Monroe\, IA 50170\, USA:geo:-93.086823,41.531214
END:VEVENT
END:VCALENDAR