BEGIN:VCALENDAR
VERSION:2.0
PRODID:-//English Springer Spaniel Field Trials - ECPv6.15.20//NONSGML v1.0//EN
CALSCALE:GREGORIAN
METHOD:PUBLISH
X-WR-CALNAME:English Springer Spaniel Field Trials
X-ORIGINAL-URL:https://essft.com
X-WR-CALDESC:Events for English Springer Spaniel Field Trials
REFRESH-INTERVAL;VALUE=DURATION:PT1H
X-Robots-Tag:noindex
X-PUBLISHED-TTL:PT1H
BEGIN:VTIMEZONE
TZID:America/Chicago
BEGIN:DAYLIGHT
TZOFFSETFROM:-0600
TZOFFSETTO:-0500
TZNAME:CDT
DTSTART:20180311T080000
END:DAYLIGHT
BEGIN:STANDARD
TZOFFSETFROM:-0500
TZOFFSETTO:-0600
TZNAME:CST
DTSTART:20181104T070000
END:STANDARD
BEGIN:DAYLIGHT
TZOFFSETFROM:-0600
TZOFFSETTO:-0500
TZNAME:CDT
DTSTART:20190310T080000
END:DAYLIGHT
BEGIN:STANDARD
TZOFFSETFROM:-0500
TZOFFSETTO:-0600
TZNAME:CST
DTSTART:20191103T070000
END:STANDARD
BEGIN:DAYLIGHT
TZOFFSETFROM:-0600
TZOFFSETTO:-0500
TZNAME:CDT
DTSTART:20200308T080000
END:DAYLIGHT
BEGIN:STANDARD
TZOFFSETFROM:-0500
TZOFFSETTO:-0600
TZNAME:CST
DTSTART:20201101T070000
END:STANDARD
END:VTIMEZONE
BEGIN:VEVENT
DTSTART;TZID=America/Chicago:20190427T000000
DTEND;TZID=America/Chicago:20190428T000000
DTSTAMP:20260424T084600
CREATED:20250611T204359Z
LAST-MODIFIED:20250611T204359Z
UID:75268-1556323200-1556409600@essft.com
SUMMARY:Iowa Sporting Spaniel Club  Trial #2
DESCRIPTION:Open and Puppies on Saturday\, Amateur on Sunday. \nEntries Close: Tuesday\, April 16\, 2019 11:59:59 PM Eastern Time(ET)  on Hunt Secretary.\nJudges: Clay Earl and Bob Beauchamp\n  \n\n		\n			\n			\n		\n\n		\n  \n[wunderground location=”Monroe\, IA” numdays=”5″ showdata=”alert\,daynames\,pop\,icon\,highlow\,conditions\,date” layout=”table-horizontal”] \n 
URL:https://essft.com/event/iowa-sporting-spaniel-club-trial-2-2/
LOCATION:Mik Noland Farm\, 2941 Rosebud Ave\, Monroe\, IA 50170\, USA\, Monroe\, Iowa\, 50170\, United States
CATEGORIES:Field Trials - Mid West
GEO:41.531214;-93.086823
X-APPLE-STRUCTURED-LOCATION;VALUE=URI;X-ADDRESS=Mik Noland Farm 2941 Rosebud Ave Monroe IA 50170 USA Monroe Iowa 50170 United States;X-APPLE-RADIUS=500;X-TITLE=2941 Rosebud Ave\, Monroe\, IA 50170\, USA:geo:-93.086823,41.531214
END:VEVENT
END:VCALENDAR