BEGIN:VCALENDAR
VERSION:2.0
PRODID:-//English Springer Spaniel Field Trials - ECPv6.15.20//NONSGML v1.0//EN
CALSCALE:GREGORIAN
METHOD:PUBLISH
X-WR-CALNAME:English Springer Spaniel Field Trials
X-ORIGINAL-URL:https://essft.com
X-WR-CALDESC:Events for English Springer Spaniel Field Trials
REFRESH-INTERVAL;VALUE=DURATION:PT1H
X-Robots-Tag:noindex
X-PUBLISHED-TTL:PT1H
BEGIN:VTIMEZONE
TZID:America/Chicago
BEGIN:DAYLIGHT
TZOFFSETFROM:-0600
TZOFFSETTO:-0500
TZNAME:CDT
DTSTART:20170312T080000
END:DAYLIGHT
BEGIN:STANDARD
TZOFFSETFROM:-0500
TZOFFSETTO:-0600
TZNAME:CST
DTSTART:20171105T070000
END:STANDARD
BEGIN:DAYLIGHT
TZOFFSETFROM:-0600
TZOFFSETTO:-0500
TZNAME:CDT
DTSTART:20180311T080000
END:DAYLIGHT
BEGIN:STANDARD
TZOFFSETFROM:-0500
TZOFFSETTO:-0600
TZNAME:CST
DTSTART:20181104T070000
END:STANDARD
BEGIN:DAYLIGHT
TZOFFSETFROM:-0600
TZOFFSETTO:-0500
TZNAME:CDT
DTSTART:20190310T080000
END:DAYLIGHT
BEGIN:STANDARD
TZOFFSETFROM:-0500
TZOFFSETTO:-0600
TZNAME:CST
DTSTART:20191103T070000
END:STANDARD
END:VTIMEZONE
BEGIN:VEVENT
DTSTART;TZID=America/Chicago:20180428T000000
DTEND;TZID=America/Chicago:20180429T000000
DTSTAMP:20260423T155540
CREATED:20250611T183014Z
LAST-MODIFIED:20250611T183014Z
UID:74998-1524873600-1524960000@essft.com
SUMMARY:Iowa Sporting Spaniel Club Trial #2
DESCRIPTION:Entries Close: Tuesday\, April 17\, 2018  on Hunt Secretary \nJudges: William Gates and Brent LeMaster\n  \nFriday’s Running Orders\n\n		\n			\n			\n		\n\n		\n  \nSaturday and Sunday’s Running Orders\n\n		\n			\n			\n		\n\n		\n  \n  \n  \nPLEASE READ: \n\nThese are new grounds!  If the ground is wet we will NOT be allowing UTVs on the course.\n This is a 3 day event.  Friday and Saturday will each have an Open and Sunday is an Amateur. \n The club will be using Chukar.\n\n \n  \n\n		\n			\n			\n		\n\n		\nField Trial Results\n4/28/18                 OPEN ALL-AGE   \nJudges:             William Gates / Brent LeMaster \nNumber Entered/Number Started:36/35 \n  \nFirst Place \nDog Name:         Drake Hill Willem’s Choice MH- (Keller) \nAKC:                    SR88746907                            Sex:     M                 DOB:   7/21/15 \nSire:                    Syncerus Sweep \nDam:                   Drake Hill Anna \nBreeder:             William D Mcfeely \nOwner:                Patrick Berry \nActual Handler: Jason Givens \n  \nSecond Place \nDog Name:         Breaking Cattails You Can Come Home- (Blane) \nAKC:                    SR93832607                            Sex:     M                 DOB:   5/21/17 \nSire:                    FC Macon Creek Tucker \nDam:                   FC AFC Upland Briars Mistletoe \nBreeder:             Joe Stallman \nOwner:                Joe Stallman \nActual Handler: Jason Givens \n  \nThird Place \nDog Name:         Pine Shadows Flying Hank- (Hank) \nAKC:                    SR87426207                            Sex:     M                 DOB:   4/6/15 \nSire:                    FC Crosswinds Rolling Thunder \nDam:                   Pine Shadows SW Wheaties \nBreeder:             Mark Haglin \nOwner:                Pat Connell \nActual Handler: Morgan Haglin \n  \nFourth Place \nDog Name:         FC-AFC Tuff of Ivanhoe- (Tuffy) \nAKC:                    SR72540706                            Sex:     F                  DOB:   4/29/12 \nSire:                    AFC Ivanhoe’s Red Lion \nDam:                   AFC Ivanhoe’s Irish Cream \nBreeder:             Bill Cosgrove \nActual Handler: William Cosgrove \n  \n  \n  \n4/28/18                 PUPPY   \nJudges:             Aaron Wendel / Jim O’Keefe \nNumber Entered/Number Started:4/4 \n  \nFirst Place \nDog Name:         Pine Shadows Driving Rayn- (Rayn) \nAKC:                    SR98859705                            Sex:     F                  DOB:   1/2/17 \nSire:                    Pine Shadows RD Dozer \nDam:                   Mamre’s Chica Bonita \nBreeder:             M.a. Mattox \nOwner:                Brad Howland \nActual Handler: Morgan Haglin \n  \nSecond Place \nDog Name:         Prairierose’s Breezy Hornig- (Breezy) \nAKC:                    SR96061505                            Sex:     F                  DOB:   11/26/16 \nSire: \nDam: \nBreeder:             Richard Paquin \nOwner:                Win Hornig \nActual Handler: Morgan Haglin \n  \nThird Place \nDog Name:         Drake Hill Gristmill Griffin- (Griffin) \nAKC:                    SR98059707                            Sex:     M                 DOB:   3/22/17 \nSire:                    FC Craney Hill Dalmore Dudley \nDam:                   Drake Hill Anna \nBreeder:             William D. Mcfeely \nOwner:                Patrick Berry \nActual Handler: Patrick Berry \n  \nFourth Place \nDog Name:         Ice Cold Mugs- (Mugzy) \nAKC:                    SR99179101                            Sex:     M                 DOB:   6/28/16 \nSire:                    Courtman’s Rocky Delta Ibis \nDam:                   Courtman’sMiss Kara \nBreeder:             Alex Anf Alice Stewart \nOwner:                Ray Jack \nActual Handler: Morgan Haglin \n  \n. \n4/29/18                 AMATEUR ALL-AGE   \nJudges:             William Gates / Brent LeMaster \nNumber Entered/Number Started: 47/44 \nFirst Place \nDog Name:         Coals Creek Practically Perfect- (Pip) \nAKC:                    SR82443403                            Sex:     F                  DOB:   4/28/14 \nSire:                    Hillside Hickory Sir Winston \nDam:                   Hillside Hickory Dakota \nBreeder:             Miss Anna Liegel \nOwner:                Jason Saunders \nO-Address:         7711 Sharts Rd\, Springboro\, OH 45066 \nActual Handler: Mike Elsasser \n  \nSecond Place \nDog Name:         Rockhaven’s Little Lass- (Delaney) \nAKC:                    SR91129802                            Sex:     F                  DOB:   12/11/15 \nSire:                    FC AFC Prince Padraig of Rockhaven \nDam:                   FC AFC Grouse Moor Tina \nBreeder:             John Knowles \nOwner:                James O’keefe \nActual Handler: James O’keefe \n  \nThird Place \nDog Name:         FC-AFC Narvin’s Sully of Ivanhoe- (Sully) \nAKC:                    SR84815001                            Sex:     M                 DOB:   6/3/14 \nSire:                    NFC NAFC  Blackriver Tanner \nDam:                   Lady Caramel \nBreeder:             Tanya Mccaffery \nOwner:                William Cosgrove \nO-Address:         2970 Shoemaker Road\, Lebanon\, OH \nActual Handler: William Cosgrove \n  \nFourth Place \nDog Name:         Juneau’s Gypsy Girl- (Juneau) \nAKC:                    SR87967908                            Sex:     F                  DOB:   5/13/15 \nSire:                    NAFC FC AFC Pheasant Feathers Black Powder JH \nDam:                   FC AFC Z&Z’s Sky Dancer of Fallen Wings \nBreeder:             Michael F. Nolan \nOwner:                Ann Theisen \nActual Handler: Joel Theisen \n[wunderground location=”Monroe\, IA” numdays=”5″ showdata=”alert\,daynames\,pop\,icon\,highlow\,conditions\,date” layout=”table-horizontal”] \n 
URL:https://essft.com/event/iowa-sporting-spaniel-club-trial-2/
LOCATION:Mike Nolan\, 2941 Rosebud Ave\, Monroe\, IA 50170\, USA\, Monroe\, Iowa\, 50170\, United States
CATEGORIES:Field Trials - Mid West
GEO:41.531214;-93.086823
X-APPLE-STRUCTURED-LOCATION;VALUE=URI;X-ADDRESS=Mike Nolan 2941 Rosebud Ave Monroe IA 50170 USA Monroe Iowa 50170 United States;X-APPLE-RADIUS=500;X-TITLE=2941 Rosebud Ave\, Monroe\, IA 50170\, USA:geo:-93.086823,41.531214
END:VEVENT
END:VCALENDAR