BEGIN:VCALENDAR
VERSION:2.0
PRODID:-//English Springer Spaniel Field Trials - ECPv6.15.20//NONSGML v1.0//EN
CALSCALE:GREGORIAN
METHOD:PUBLISH
X-WR-CALNAME:English Springer Spaniel Field Trials
X-ORIGINAL-URL:https://essft.com
X-WR-CALDESC:Events for English Springer Spaniel Field Trials
REFRESH-INTERVAL;VALUE=DURATION:PT1H
X-Robots-Tag:noindex
X-PUBLISHED-TTL:PT1H
BEGIN:VTIMEZONE
TZID:America/Chicago
BEGIN:DAYLIGHT
TZOFFSETFROM:-0600
TZOFFSETTO:-0500
TZNAME:CDT
DTSTART:20230312T080000
END:DAYLIGHT
BEGIN:STANDARD
TZOFFSETFROM:-0500
TZOFFSETTO:-0600
TZNAME:CST
DTSTART:20231105T070000
END:STANDARD
BEGIN:DAYLIGHT
TZOFFSETFROM:-0600
TZOFFSETTO:-0500
TZNAME:CDT
DTSTART:20240310T080000
END:DAYLIGHT
BEGIN:STANDARD
TZOFFSETFROM:-0500
TZOFFSETTO:-0600
TZNAME:CST
DTSTART:20241103T070000
END:STANDARD
BEGIN:DAYLIGHT
TZOFFSETFROM:-0600
TZOFFSETTO:-0500
TZNAME:CDT
DTSTART:20250309T080000
END:DAYLIGHT
BEGIN:STANDARD
TZOFFSETFROM:-0500
TZOFFSETTO:-0600
TZNAME:CST
DTSTART:20251102T070000
END:STANDARD
END:VTIMEZONE
BEGIN:VEVENT
DTSTART;TZID=America/Chicago:20240413T000000
DTEND;TZID=America/Chicago:20240414T000000
DTSTAMP:20260421T191942
CREATED:20250614T164610Z
LAST-MODIFIED:20250614T164610Z
UID:76565-1712966400-1713052800@essft.com
SUMMARY:Minnesota English Springer Spaniel Club
DESCRIPTION:4/2/2024: Our MESSC spring trial site that the landowner is putting on a hog roast for lunch on that Saturday of the trial similar to what occurred at last year’s spring trial.  It would be appreciated if participants could make a small donation.   Drinks will not be provided. \n  \nEntries Close: Tuesday\, April 2\, 2024 11:59:59 PM Eastern Time(ET) on Hunt Secretary \nJudges: Michael Pollack and Clay Earl\n 4/2/2024 at 9:15 PM received notice from the club that Ryan Grauf will be apprenticing. \n\n		\n			\n			\n		\n\n		\n 
URL:https://essft.com/event/minnesota-english-springer-spaniel-club-14/
CATEGORIES:Field Trials - Mid West
END:VEVENT
END:VCALENDAR