BEGIN:VCALENDAR
VERSION:2.0
PRODID:-//English Springer Spaniel Field Trials - ECPv6.15.20//NONSGML v1.0//EN
CALSCALE:GREGORIAN
METHOD:PUBLISH
X-WR-CALNAME:English Springer Spaniel Field Trials
X-ORIGINAL-URL:https://essft.com
X-WR-CALDESC:Events for English Springer Spaniel Field Trials
REFRESH-INTERVAL;VALUE=DURATION:PT1H
X-Robots-Tag:noindex
X-PUBLISHED-TTL:PT1H
BEGIN:VTIMEZONE
TZID:America/Chicago
BEGIN:DAYLIGHT
TZOFFSETFROM:-0600
TZOFFSETTO:-0500
TZNAME:CDT
DTSTART:20170312T080000
END:DAYLIGHT
BEGIN:STANDARD
TZOFFSETFROM:-0500
TZOFFSETTO:-0600
TZNAME:CST
DTSTART:20171105T070000
END:STANDARD
BEGIN:DAYLIGHT
TZOFFSETFROM:-0600
TZOFFSETTO:-0500
TZNAME:CDT
DTSTART:20180311T080000
END:DAYLIGHT
BEGIN:STANDARD
TZOFFSETFROM:-0500
TZOFFSETTO:-0600
TZNAME:CST
DTSTART:20181104T070000
END:STANDARD
BEGIN:DAYLIGHT
TZOFFSETFROM:-0600
TZOFFSETTO:-0500
TZNAME:CDT
DTSTART:20190310T080000
END:DAYLIGHT
BEGIN:STANDARD
TZOFFSETFROM:-0500
TZOFFSETTO:-0600
TZNAME:CST
DTSTART:20191103T070000
END:STANDARD
END:VTIMEZONE
BEGIN:VEVENT
DTSTART;TZID=America/Chicago:20180505T000000
DTEND;TZID=America/Chicago:20180506T000000
DTSTAMP:20260423T155558
CREATED:20250611T183204Z
LAST-MODIFIED:20250611T183204Z
UID:75001-1525478400-1525564800@essft.com
SUMMARY:Minnesota English Springer Spaniel Club
DESCRIPTION:DUE TO WEATHER THE APRIL 14 & 15 TRIAL WILL BE MOVED TO MAY 5 & 6. SAME JUDGES AND GROUNDS. \n  \nREOPENED Entries Close: Thursday\, April 26\, 2018 on Hunt Secretary \nESSC field trial that is rescheduled on May 5th and 6th to accept NEW entries. New entries can be made athuntsecretary.com until midnight Thursday\, April 26th.\nDogs originally entered in the April 14th and 15th field trial DO NOT need to re-enter. Dogs originally entered in the April FT that cannot participate on the new dates will need to contact us (the club) so we can issue refunds and remove those dogs from the running orders. \n  \nJudges: Clay Earl and David Sanford    Apprentice Judge: Bob Beauchamp\nRUNNING ORDERS:\n\n		\n			\n			\n		\n\n		\n 
URL:https://essft.com/event/minnesota-english-springer-spaniel-club-3/
CATEGORIES:Field Trials - Mid West
END:VEVENT
END:VCALENDAR