BEGIN:VCALENDAR
VERSION:2.0
PRODID:-//English Springer Spaniel Field Trials - ECPv6.15.20//NONSGML v1.0//EN
CALSCALE:GREGORIAN
METHOD:PUBLISH
X-WR-CALNAME:English Springer Spaniel Field Trials
X-ORIGINAL-URL:https://essft.com
X-WR-CALDESC:Events for English Springer Spaniel Field Trials
REFRESH-INTERVAL;VALUE=DURATION:PT1H
X-Robots-Tag:noindex
X-PUBLISHED-TTL:PT1H
BEGIN:VTIMEZONE
TZID:America/Chicago
BEGIN:DAYLIGHT
TZOFFSETFROM:-0600
TZOFFSETTO:-0500
TZNAME:CDT
DTSTART:20220313T080000
END:DAYLIGHT
BEGIN:STANDARD
TZOFFSETFROM:-0500
TZOFFSETTO:-0600
TZNAME:CST
DTSTART:20221106T070000
END:STANDARD
BEGIN:DAYLIGHT
TZOFFSETFROM:-0600
TZOFFSETTO:-0500
TZNAME:CDT
DTSTART:20230312T080000
END:DAYLIGHT
BEGIN:STANDARD
TZOFFSETFROM:-0500
TZOFFSETTO:-0600
TZNAME:CST
DTSTART:20231105T070000
END:STANDARD
BEGIN:DAYLIGHT
TZOFFSETFROM:-0600
TZOFFSETTO:-0500
TZNAME:CDT
DTSTART:20240310T080000
END:DAYLIGHT
BEGIN:STANDARD
TZOFFSETFROM:-0500
TZOFFSETTO:-0600
TZNAME:CST
DTSTART:20241103T070000
END:STANDARD
END:VTIMEZONE
BEGIN:VEVENT
DTSTART;TZID=America/Chicago:20230610T000000
DTEND;TZID=America/Chicago:20230611T000000
DTSTAMP:20260422T013254
CREATED:20250613T172855Z
LAST-MODIFIED:20250613T172855Z
UID:76349-1686355200-1686441600@essft.com
SUMMARY:Missouri Headwaters Gun Dog Club (MT) Spaniel Hunt Test/Judges Seminar  American Kennel Club Spaniel Hunt Test
DESCRIPTION:Entries Close: Tuesday\, May 30\, 2023 11:59:59 PM Eastern Time(ET) on Hunt Secretary \n  \nMissouri Headwaters Gun Dog Club (MT) invites you to our 2023 Spaniel Hunt Test/Judges Seminar. Please note our LOCATION CHANGE to Cardwell\, MT. \nWe are pleased to have Tom Meyer (Saturday and Sunday)\, Marlene O’Connell (Saturday)\, and Jack Weiss (Sunday) judging our events. We will hold a Spaniel Hunting Test Judges Seminar in conjunction with our Spaniel Hunting Tests. \nThe seminar is complimentary for those who are competing in the Hunting Tests and $50 for others who want to attend the seminar only (For seminar only: please sign up ahead of time with Laurie Sweet at lauriesweet81@gmail.com and pay at the Hunt Test). \nWe start at 8am each day with the Master series\, followed by Senior\, then Junior.\nWe look forward to seeing your dogs\, and you. \n\n		\n			\n			\n		\n\n		\n  \n 
URL:https://essft.com/event/missouri-headwaters-gun-dog-club-mt-spaniel-hunt-test-judges-seminar-american-kennel-club-spaniel-hunt-test/
CATEGORIES:Hunt Tests|Judging Seminar
END:VEVENT
END:VCALENDAR