BEGIN:VCALENDAR
VERSION:2.0
PRODID:-//English Springer Spaniel Field Trials - ECPv6.15.20//NONSGML v1.0//EN
CALSCALE:GREGORIAN
METHOD:PUBLISH
X-WR-CALNAME:English Springer Spaniel Field Trials
X-ORIGINAL-URL:https://essft.com
X-WR-CALDESC:Events for English Springer Spaniel Field Trials
REFRESH-INTERVAL;VALUE=DURATION:PT1H
X-Robots-Tag:noindex
X-PUBLISHED-TTL:PT1H
BEGIN:VTIMEZONE
TZID:America/Chicago
BEGIN:DAYLIGHT
TZOFFSETFROM:-0600
TZOFFSETTO:-0500
TZNAME:CDT
DTSTART:20170312T080000
END:DAYLIGHT
BEGIN:STANDARD
TZOFFSETFROM:-0500
TZOFFSETTO:-0600
TZNAME:CST
DTSTART:20171105T070000
END:STANDARD
BEGIN:DAYLIGHT
TZOFFSETFROM:-0600
TZOFFSETTO:-0500
TZNAME:CDT
DTSTART:20180311T080000
END:DAYLIGHT
BEGIN:STANDARD
TZOFFSETFROM:-0500
TZOFFSETTO:-0600
TZNAME:CST
DTSTART:20181104T070000
END:STANDARD
BEGIN:DAYLIGHT
TZOFFSETFROM:-0600
TZOFFSETTO:-0500
TZNAME:CDT
DTSTART:20190310T080000
END:DAYLIGHT
BEGIN:STANDARD
TZOFFSETFROM:-0500
TZOFFSETTO:-0600
TZNAME:CST
DTSTART:20191103T070000
END:STANDARD
END:VTIMEZONE
BEGIN:VEVENT
DTSTART;TZID=America/Chicago:20180407T000000
DTEND;TZID=America/Chicago:20180408T000000
DTSTAMP:20260423T063702
CREATED:20250611T181529Z
LAST-MODIFIED:20250611T181529Z
UID:74976-1523059200-1523145600@essft.com
SUMMARY:Missouri Headwaters Springer Spaniel Club (Montana)
DESCRIPTION:Entries Close: Saturday\, March 24\, 2018 with the FTS. \nJudges:  Rick Shively  and Jim O’Shea     Apprentice Judge:  Bob Beauchamp\nMissouri Headwaters MT 2018 Premium MS WORD \n  \nHint:  To scroll through the pages of the pdf  go to the bottom of the pdf and hover until you see a gray bar. You can click the arrows to go through the document or download for printing. \n\n		\n			\n			\n		\n\n		\n  \n  \n[wunderground location=”Three Forks\, MT” numdays=”5″ showdata=”alert\,daynames\,pop\,icon\,highlow\,conditions\,date” layout=”table-horizontal”]
URL:https://essft.com/event/missouri-headwaters-springer-spaniel-club-montana/
LOCATION:Fairweather Fishing Access\, Clarkston\, MT 59752\, USA\, Clarkston\, Montana\, 59752\, United States
CATEGORIES:Field Trials - Rocky Mountain
GEO:46.029928;-111.413575
X-APPLE-STRUCTURED-LOCATION;VALUE=URI;X-ADDRESS=Fairweather Fishing Access Clarkston MT 59752 USA Clarkston Montana 59752 United States;X-APPLE-RADIUS=500;X-TITLE=Clarkston\, MT 59752\, USA:geo:-111.413575,46.029928
END:VEVENT
END:VCALENDAR