BEGIN:VCALENDAR
VERSION:2.0
PRODID:-//English Springer Spaniel Field Trials - ECPv6.15.20//NONSGML v1.0//EN
CALSCALE:GREGORIAN
METHOD:PUBLISH
X-WR-CALNAME:English Springer Spaniel Field Trials
X-ORIGINAL-URL:https://essft.com
X-WR-CALDESC:Events for English Springer Spaniel Field Trials
REFRESH-INTERVAL;VALUE=DURATION:PT1H
X-Robots-Tag:noindex
X-PUBLISHED-TTL:PT1H
BEGIN:VTIMEZONE
TZID:America/Chicago
BEGIN:DAYLIGHT
TZOFFSETFROM:-0600
TZOFFSETTO:-0500
TZNAME:CDT
DTSTART:20160313T080000
END:DAYLIGHT
BEGIN:STANDARD
TZOFFSETFROM:-0500
TZOFFSETTO:-0600
TZNAME:CST
DTSTART:20161106T070000
END:STANDARD
BEGIN:DAYLIGHT
TZOFFSETFROM:-0600
TZOFFSETTO:-0500
TZNAME:CDT
DTSTART:20170312T080000
END:DAYLIGHT
BEGIN:STANDARD
TZOFFSETFROM:-0500
TZOFFSETTO:-0600
TZNAME:CST
DTSTART:20171105T070000
END:STANDARD
BEGIN:DAYLIGHT
TZOFFSETFROM:-0600
TZOFFSETTO:-0500
TZNAME:CDT
DTSTART:20180311T080000
END:DAYLIGHT
BEGIN:STANDARD
TZOFFSETFROM:-0500
TZOFFSETTO:-0600
TZNAME:CST
DTSTART:20181104T070000
END:STANDARD
END:VTIMEZONE
BEGIN:VEVENT
DTSTART;TZID=America/Chicago:20171021T000000
DTEND;TZID=America/Chicago:20171022T000000
DTSTAMP:20260422T215839
CREATED:20250611T175636Z
LAST-MODIFIED:20250611T175636Z
UID:74892-1508544000-1508630400@essft.com
SUMMARY:Missouri Hunting Spaniel Club
DESCRIPTION:Entries Close: Tuesday\, October 10th via  Hunt Secretary \nJudges: Jeff Johanns and Kevin McGlin \nNOTE:  Puppy Judge change.  Skip Smith will be replacing  Colin Pickrel. \n  \n2017 Missouri Fall FT Letter Map and Premium \n[wunderground location=”Dunnegan\, MO” numdays=”5″ showdata=”alert\,daynames\,pop\,icon\,highlow\,conditions\,date” layout=”table-horizontal”] 
URL:https://essft.com/event/missouri-hunting-spaniel-club-3/
LOCATION:Brushy Creek Farm\, Dunnegan\, MO 65640\, USA\, Dunnegan\, Missouri\, 65640\, United States
CATEGORIES:Field Trials - Rocky Mountain
ORGANIZER;CN="Tim Baker":MAILTO:tim.baker3@gmail.com
GEO:37.70822;-93.577297
X-APPLE-STRUCTURED-LOCATION;VALUE=URI;X-ADDRESS=Brushy Creek Farm Dunnegan MO 65640 USA Dunnegan Missouri 65640 United States;X-APPLE-RADIUS=500;X-TITLE=Dunnegan\, MO 65640\, USA:geo:-93.577297,37.70822
END:VEVENT
END:VCALENDAR