BEGIN:VCALENDAR
VERSION:2.0
PRODID:-//English Springer Spaniel Field Trials - ECPv6.15.20//NONSGML v1.0//EN
CALSCALE:GREGORIAN
METHOD:PUBLISH
X-WR-CALNAME:English Springer Spaniel Field Trials
X-ORIGINAL-URL:https://essft.com
X-WR-CALDESC:Events for English Springer Spaniel Field Trials
REFRESH-INTERVAL;VALUE=DURATION:PT1H
X-Robots-Tag:noindex
X-PUBLISHED-TTL:PT1H
BEGIN:VTIMEZONE
TZID:America/Chicago
BEGIN:DAYLIGHT
TZOFFSETFROM:-0600
TZOFFSETTO:-0500
TZNAME:CDT
DTSTART:20200308T080000
END:DAYLIGHT
BEGIN:STANDARD
TZOFFSETFROM:-0500
TZOFFSETTO:-0600
TZNAME:CST
DTSTART:20201101T070000
END:STANDARD
BEGIN:DAYLIGHT
TZOFFSETFROM:-0600
TZOFFSETTO:-0500
TZNAME:CDT
DTSTART:20210314T080000
END:DAYLIGHT
BEGIN:STANDARD
TZOFFSETFROM:-0500
TZOFFSETTO:-0600
TZNAME:CST
DTSTART:20211107T070000
END:STANDARD
BEGIN:DAYLIGHT
TZOFFSETFROM:-0600
TZOFFSETTO:-0500
TZNAME:CDT
DTSTART:20220313T080000
END:DAYLIGHT
BEGIN:STANDARD
TZOFFSETFROM:-0500
TZOFFSETTO:-0600
TZNAME:CST
DTSTART:20221106T070000
END:STANDARD
END:VTIMEZONE
BEGIN:VEVENT
DTSTART;TZID=America/Chicago:20211114T000000
DTEND;TZID=America/Chicago:20211120T000000
DTSTAMP:20260422T150820
CREATED:20250613T043049Z
LAST-MODIFIED:20250628T020207Z
UID:75949-1636848000-1637366400@essft.com
SUMMARY:National Amateur Championship (NAC) - English Springer Spaniel USA
DESCRIPTION:Qualification: 1 Point \nTraining Day on November 14th \n1st Day of trial on Monday\, November 15\, 2021 \nJudges: Casey Butz and Morgan Haglin\n  \nOPEN TO ANY ENGLISH SPRINGER SPANIEL SIX MONTHS OF AGE OR OLDER WHICH HAS EARNED ONE (1) OR MORE POINTS IN AN AMATEUR ALL-AGE STAKE AT AN A.K.C. LICENSED OR MEMBER FIELD TRIAL FOR ENGLISH SPRINGER SPANIELS BETWEEN THE DATES OF December 3rd\, 2020 AND November 4th\, 2021 OR HAS EVER PLACED FIRST IN THE NATIONAL AMATEUR CHAMPIONSHIP STAKE FOR ENGLISH SPRINGER SPANIELS OR PLACED IN THE 2020 NATIONAL AMATEUR CHAMPIONSHIP STAKE FOR ENGLISH SPRINGER SPANIELS. \n  \nThis Field Trial is held under Rules & Procedures of the \nAMERICAN KENNEL CLUB \n  \nSubmit your entries via Hunt Secretary ( https://www.huntsecretary.com/ )  \n  \nor mail your entries along with the entry fee of $8.00 per dog to:  \n\n\n\n\nHunt Sec LLC 708 CR 3140 Crockett\, TX 75835 \n  \nTraining Day birds can be purchased through Hunt Secretary for $16.00 apiece. $20 (cash only) \nat the training grounds. \n  \nMake your Banquet headcount reservation through Hunt Secretary.  Banquet fee will be collected at the door.
URL:https://essft.com/event/national-amateur-championship-nac-english-springer-spaniel-usa/
CATEGORIES:NATIONAL FIELD TRIALS
END:VEVENT
END:VCALENDAR