BEGIN:VCALENDAR
VERSION:2.0
PRODID:-//English Springer Spaniel Field Trials - ECPv6.15.20//NONSGML v1.0//EN
CALSCALE:GREGORIAN
METHOD:PUBLISH
X-WR-CALNAME:English Springer Spaniel Field Trials
X-ORIGINAL-URL:https://essft.com
X-WR-CALDESC:Events for English Springer Spaniel Field Trials
REFRESH-INTERVAL;VALUE=DURATION:PT1H
X-Robots-Tag:noindex
X-PUBLISHED-TTL:PT1H
BEGIN:VTIMEZONE
TZID:America/Chicago
BEGIN:DAYLIGHT
TZOFFSETFROM:-0600
TZOFFSETTO:-0500
TZNAME:CDT
DTSTART:20170312T080000
END:DAYLIGHT
BEGIN:STANDARD
TZOFFSETFROM:-0500
TZOFFSETTO:-0600
TZNAME:CST
DTSTART:20171105T070000
END:STANDARD
BEGIN:DAYLIGHT
TZOFFSETFROM:-0600
TZOFFSETTO:-0500
TZNAME:CDT
DTSTART:20180311T080000
END:DAYLIGHT
BEGIN:STANDARD
TZOFFSETFROM:-0500
TZOFFSETTO:-0600
TZNAME:CST
DTSTART:20181104T070000
END:STANDARD
BEGIN:DAYLIGHT
TZOFFSETFROM:-0600
TZOFFSETTO:-0500
TZNAME:CDT
DTSTART:20190310T080000
END:DAYLIGHT
BEGIN:STANDARD
TZOFFSETFROM:-0500
TZOFFSETTO:-0600
TZNAME:CST
DTSTART:20191103T070000
END:STANDARD
END:VTIMEZONE
BEGIN:VEVENT
DTSTART;TZID=America/Chicago:20180414T000000
DTEND;TZID=America/Chicago:20180415T000000
DTSTAMP:20260423T172400
CREATED:20250611T182932Z
LAST-MODIFIED:20250611T182932Z
UID:74985-1523664000-1523750400@essft.com
SUMMARY:New Jersey Spaniel Field Trial Club
DESCRIPTION:Entries Close:   Monday\, April 2\, 2018 on EntryExpress \nJudges:  William Pierson and Charles Squillante\n  \nRunning Orders\nRunning Order Spring 2018 updated April 8 2018 \n\n		\n			\n			\n		\n\n		\n\n		\n			\n			\n		\n\n		\n  \n2018 FUTURITY Entry Form in MS Word \n  \n\n		\n			\n			\n		\n\n		\n  \n  \n  \n[wunderground location=”Tyrone\, PA” numdays=”5″ showdata=”alert\,daynames\,pop\,icon\,highlow\,conditions\,date” layout=”table-horizontal”] \n  \n  \n 
URL:https://essft.com/event/new-jersey-spaniel-field-trial-club/
LOCATION:Sinking Valley (Tyrone)\, PA\, Tyrone\, PA 16686\, USA\, Tyrone\, Pennsylvania\, 16686\, United States
CATEGORIES:Field Trials - East
ORGANIZER;CN="Connie Soper":MAILTO:constancesoper@hotmail.com
GEO:40.670618;-78.238624
X-APPLE-STRUCTURED-LOCATION;VALUE=URI;X-ADDRESS=Sinking Valley (Tyrone) PA Tyrone PA 16686 USA Tyrone Pennsylvania 16686 United States;X-APPLE-RADIUS=500;X-TITLE=Tyrone\, PA 16686\, USA:geo:-78.238624,40.670618
END:VEVENT
END:VCALENDAR