BEGIN:VCALENDAR
VERSION:2.0
PRODID:-//English Springer Spaniel Field Trials - ECPv6.15.20//NONSGML v1.0//EN
CALSCALE:GREGORIAN
METHOD:PUBLISH
X-WR-CALNAME:English Springer Spaniel Field Trials
X-ORIGINAL-URL:https://essft.com
X-WR-CALDESC:Events for English Springer Spaniel Field Trials
REFRESH-INTERVAL;VALUE=DURATION:PT1H
X-Robots-Tag:noindex
X-PUBLISHED-TTL:PT1H
BEGIN:VTIMEZONE
TZID:America/Chicago
BEGIN:DAYLIGHT
TZOFFSETFROM:-0600
TZOFFSETTO:-0500
TZNAME:CDT
DTSTART:20170312T080000
END:DAYLIGHT
BEGIN:STANDARD
TZOFFSETFROM:-0500
TZOFFSETTO:-0600
TZNAME:CST
DTSTART:20171105T070000
END:STANDARD
BEGIN:DAYLIGHT
TZOFFSETFROM:-0600
TZOFFSETTO:-0500
TZNAME:CDT
DTSTART:20180311T080000
END:DAYLIGHT
BEGIN:STANDARD
TZOFFSETFROM:-0500
TZOFFSETTO:-0600
TZNAME:CST
DTSTART:20181104T070000
END:STANDARD
BEGIN:DAYLIGHT
TZOFFSETFROM:-0600
TZOFFSETTO:-0500
TZNAME:CDT
DTSTART:20190310T080000
END:DAYLIGHT
BEGIN:STANDARD
TZOFFSETFROM:-0500
TZOFFSETTO:-0600
TZNAME:CST
DTSTART:20191103T070000
END:STANDARD
END:VTIMEZONE
BEGIN:VEVENT
DTSTART;TZID=America/Chicago:20180512T000000
DTEND;TZID=America/Chicago:20180513T000000
DTSTAMP:20260423T155538
CREATED:20250611T183205Z
LAST-MODIFIED:20250611T183205Z
UID:75003-1526083200-1526169600@essft.com
SUMMARY:North Dakota Sporting Spaniel Club
DESCRIPTION:Entries Close Monday\, April 30\, 2018 on Entry Express. \nJudges: John Smith and Chuck Nelson\n  \n\n		\n			\n			\n		\n\n		\n  \n[wunderground location=”Bismarck\, ND” numdays=”5″ showdata=”alert\,daynames\,pop\,icon\,highlow\,conditions\,date” layout=”table-horizontal”] \n 
URL:https://essft.com/event/north-dakota-sporting-spaniel-club-2/
LOCATION:Hobson Brown Farm\, 16001 48th Ave SE\, Menoken\, ND 58558\, USA\, Menoken\, North Dakota\, 58558\, United States
CATEGORIES:Field Trials - Rocky Mountain
ORGANIZER;CN="Sue Wilson%2C FTS":MAILTO:suezannebwilson@yahoo.com
GEO:46.748796;-100.538811
X-APPLE-STRUCTURED-LOCATION;VALUE=URI;X-ADDRESS=Hobson Brown Farm 16001 48th Ave SE Menoken ND 58558 USA Menoken North Dakota 58558 United States;X-APPLE-RADIUS=500;X-TITLE=16001 48th Ave SE\, Menoken\, ND 58558\, USA:geo:-100.538811,46.748796
END:VEVENT
END:VCALENDAR