BEGIN:VCALENDAR
VERSION:2.0
PRODID:-//English Springer Spaniel Field Trials - ECPv6.15.20//NONSGML v1.0//EN
CALSCALE:GREGORIAN
METHOD:PUBLISH
X-WR-CALNAME:English Springer Spaniel Field Trials
X-ORIGINAL-URL:https://essft.com
X-WR-CALDESC:Events for English Springer Spaniel Field Trials
REFRESH-INTERVAL;VALUE=DURATION:PT1H
X-Robots-Tag:noindex
X-PUBLISHED-TTL:PT1H
BEGIN:VTIMEZONE
TZID:America/Chicago
BEGIN:DAYLIGHT
TZOFFSETFROM:-0600
TZOFFSETTO:-0500
TZNAME:CDT
DTSTART:20170312T080000
END:DAYLIGHT
BEGIN:STANDARD
TZOFFSETFROM:-0500
TZOFFSETTO:-0600
TZNAME:CST
DTSTART:20171105T070000
END:STANDARD
BEGIN:DAYLIGHT
TZOFFSETFROM:-0600
TZOFFSETTO:-0500
TZNAME:CDT
DTSTART:20180311T080000
END:DAYLIGHT
BEGIN:STANDARD
TZOFFSETFROM:-0500
TZOFFSETTO:-0600
TZNAME:CST
DTSTART:20181104T070000
END:STANDARD
BEGIN:DAYLIGHT
TZOFFSETFROM:-0600
TZOFFSETTO:-0500
TZNAME:CDT
DTSTART:20190310T080000
END:DAYLIGHT
BEGIN:STANDARD
TZOFFSETFROM:-0500
TZOFFSETTO:-0600
TZNAME:CST
DTSTART:20191103T070000
END:STANDARD
END:VTIMEZONE
BEGIN:VEVENT
DTSTART;TZID=America/Chicago:20180310T000000
DTEND;TZID=America/Chicago:20180311T000000
DTSTAMP:20260423T172505
CREATED:20250611T180729Z
LAST-MODIFIED:20250611T180729Z
UID:74958-1520640000-1520726400@essft.com
SUMMARY:Northern Colorado Springer Spaniel Club
DESCRIPTION:Entries Close: Monday\, February 26\, 2018. Mail to FTS. \nJudges:  John Halpin and Elaine Vanderslice\n  \nRunning Orders\nHint: Depending upon your computer and mouse set up you can scroll through the PDF in different ways.  Regardless of setup if you go to the bottom of the pdf and hover your mouse  you will see a gray bar that will allow you to page through the document\, download it for printing etc. \n\n		\n			\n			\n		\n\n		\n  \n\n		\n			\n			\n		\n\n		\n  \n  \nTo open Microsoft Word version of the premium click the link  Northern-Colorado-Spring-2018-Premium REVISED 8FEB2018 MS WORD    Note:  the document will open at the bottom of your screen. \n\n		\n			\n			\n		\n\n		\n  \n  \n  \n  \n  \n[wunderground location=”Fort Lupton\, Colorado” numdays=”5″ showdata=”alert\,daynames\,pop\,icon\,highlow\,conditions\,date” layout=”table-horizontal”]
URL:https://essft.com/event/northern-colorado-springer-spaniel-club-3/
LOCATION:Weld County Road 37 between 16 and 18\, Fort Lupton\, CO 80621\, USA\, Fort Lupton\, Colorado\, 80621\, United States
CATEGORIES:Field Trials - Rocky Mountain
GEO:40.084705;-104.813027
X-APPLE-STRUCTURED-LOCATION;VALUE=URI;X-ADDRESS=Weld County Road 37 between 16 and 18 Fort Lupton CO 80621 USA Fort Lupton Colorado 80621 United States;X-APPLE-RADIUS=500;X-TITLE=Fort Lupton\, CO 80621\, USA:geo:-104.813027,40.084705
END:VEVENT
END:VCALENDAR