BEGIN:VCALENDAR
VERSION:2.0
PRODID:-//English Springer Spaniel Field Trials - ECPv6.15.20//NONSGML v1.0//EN
CALSCALE:GREGORIAN
METHOD:PUBLISH
X-WR-CALNAME:English Springer Spaniel Field Trials
X-ORIGINAL-URL:https://essft.com
X-WR-CALDESC:Events for English Springer Spaniel Field Trials
REFRESH-INTERVAL;VALUE=DURATION:PT1H
X-Robots-Tag:noindex
X-PUBLISHED-TTL:PT1H
BEGIN:VTIMEZONE
TZID:America/Chicago
BEGIN:DAYLIGHT
TZOFFSETFROM:-0600
TZOFFSETTO:-0500
TZNAME:CDT
DTSTART:20170312T080000
END:DAYLIGHT
BEGIN:STANDARD
TZOFFSETFROM:-0500
TZOFFSETTO:-0600
TZNAME:CST
DTSTART:20171105T070000
END:STANDARD
BEGIN:DAYLIGHT
TZOFFSETFROM:-0600
TZOFFSETTO:-0500
TZNAME:CDT
DTSTART:20180311T080000
END:DAYLIGHT
BEGIN:STANDARD
TZOFFSETFROM:-0500
TZOFFSETTO:-0600
TZNAME:CST
DTSTART:20181104T070000
END:STANDARD
BEGIN:DAYLIGHT
TZOFFSETFROM:-0600
TZOFFSETTO:-0500
TZNAME:CDT
DTSTART:20190310T080000
END:DAYLIGHT
BEGIN:STANDARD
TZOFFSETFROM:-0500
TZOFFSETTO:-0600
TZNAME:CST
DTSTART:20191103T070000
END:STANDARD
END:VTIMEZONE
BEGIN:VEVENT
DTSTART;TZID=America/Chicago:20180421T000000
DTEND;TZID=America/Chicago:20180422T000000
DTSTAMP:20260423T172551
CREATED:20250611T182957Z
LAST-MODIFIED:20250611T182957Z
UID:74989-1524268800-1524355200@essft.com
SUMMARY:Northern Minnesota English Springer Spaniel Club
DESCRIPTION:Entries Close:  Wednesday\, April 11\, 2018 \nJudges: Peter Renwick and Todd Agnew\n\nThe ESSFTA Parent Club is again sponsoring another blood draw at the NMESSC trial the weekend of April 21\, 22\, at Major Avenue Hunt Club. This is part of the Parent Club Funded Tick Borne Initiative Project. \nDr. Cristine Peterson from Iowa State will be there with her team to collect a blood sample from the dogs at the trial to test for any tick-borne diseases. This is the second draw at a field trial this spring. The Nebraska Club hosted the first draw and it was highly successful with 75 samples taken. \nIf you are interested in having your dog tested just let us know at the trial. Dr. Peterson will be headquartered in the Pine Shadows trailer. \nSee you all next weekend. \n\n  \nRunning Orders\n\n		\n			\n			\n		\n\n		\n\n\nSpring 2018 N MN Letter in MS WORD \nSpring 2018 N MN Premium in MS WORD \nSpring 2018 N MN Fillable Entry Form in MS WORD \n\nATTENTION:  GROUND CHANGE TO MAJOR AVE HUNT CLUB\nWe will be moving our NMESSC spring field trial to Major Avenue Hunt Club in Glencoe. \nAll things remain the same except the location. There will be a lunch available at the club house for Saturday . No evening banquet is planned. There is space available for parking camper\, travel trailers. \nField Trial Headquarters \nMajor Avenue Hunt Club \n11721 Major Ave \nGlencoe\, MN 55336 \n  \nMotels –Lodging \nAmericInn Lodge & Suites    \n1115 Hwy. 7 East\, Hutchinson\, MN  55350 \nHotel Front Desk: [320] 587.5515 \nVery nice area for letting dogs out. Plenty of parking and open areas for trucks and trailers. \n  \nEconomy Inn \n200 Highway 7 E\, Hutchinson\, MN 55350 \n(320) 587-2129 \n  \nBest Western Victorian Inn \n200 Highway 7 E\, Hutchinson\, MN 55350 \n(320) 587-2129 \n  \n\n		\n			\n			\n		\n\n		\n  \n\n		\n			\n			\n		\n\n		\n  \n[wunderground location=”Glencoe\, MN” numdays=”5″ showdata=”alert\,daynames\,pop\,icon\,highlow\,conditions\,date” layout=”table-horizontal”] \n 
URL:https://essft.com/event/northern-minnesota-english-springer-spaniel-club/
LOCATION:Major Ave Hunt Club\, 11721 Major Ave\, Glencoe\, MN 55336\, USA\, Glencoe\, Minnesota\, 55336\, United States
CATEGORIES:Field Trials - Mid West
ORGANIZER;CN="Sophie Haglin":MAILTO:mark@pineshadows.com
GEO:44.784868;-94.277116
X-APPLE-STRUCTURED-LOCATION;VALUE=URI;X-ADDRESS=Major Ave Hunt Club 11721 Major Ave Glencoe MN 55336 USA Glencoe Minnesota 55336 United States;X-APPLE-RADIUS=500;X-TITLE=11721 Major Ave\, Glencoe\, MN 55336\, USA:geo:-94.277116,44.784868
END:VEVENT
END:VCALENDAR