BEGIN:VCALENDAR
VERSION:2.0
PRODID:-//English Springer Spaniel Field Trials - ECPv6.15.20//NONSGML v1.0//EN
CALSCALE:GREGORIAN
METHOD:PUBLISH
X-WR-CALNAME:English Springer Spaniel Field Trials
X-ORIGINAL-URL:https://essft.com
X-WR-CALDESC:Events for English Springer Spaniel Field Trials
REFRESH-INTERVAL;VALUE=DURATION:PT1H
X-Robots-Tag:noindex
X-PUBLISHED-TTL:PT1H
BEGIN:VTIMEZONE
TZID:America/Chicago
BEGIN:DAYLIGHT
TZOFFSETFROM:-0600
TZOFFSETTO:-0500
TZNAME:CDT
DTSTART:20170312T080000
END:DAYLIGHT
BEGIN:STANDARD
TZOFFSETFROM:-0500
TZOFFSETTO:-0600
TZNAME:CST
DTSTART:20171105T070000
END:STANDARD
BEGIN:DAYLIGHT
TZOFFSETFROM:-0600
TZOFFSETTO:-0500
TZNAME:CDT
DTSTART:20180311T080000
END:DAYLIGHT
BEGIN:STANDARD
TZOFFSETFROM:-0500
TZOFFSETTO:-0600
TZNAME:CST
DTSTART:20181104T070000
END:STANDARD
BEGIN:DAYLIGHT
TZOFFSETFROM:-0600
TZOFFSETTO:-0500
TZNAME:CDT
DTSTART:20190310T080000
END:DAYLIGHT
BEGIN:STANDARD
TZOFFSETFROM:-0500
TZOFFSETTO:-0600
TZNAME:CST
DTSTART:20191103T070000
END:STANDARD
END:VTIMEZONE
BEGIN:VEVENT
DTSTART;TZID=America/Chicago:20181006T000000
DTEND;TZID=America/Chicago:20181007T000000
DTSTAMP:20260423T132617
CREATED:20250611T200243Z
LAST-MODIFIED:20250611T200243Z
UID:75111-1538784000-1538870400@essft.com
SUMMARY:Northwest English Springer Spaniel Club (NWESSC)
DESCRIPTION:8/30/2018 Per Paula\, FT Secretary: Due to circumstances beyond the clubs control\, we need to change the trial grounds to those we have used in the past in Rickreall\, OR. Corrected information and premium will be out ASAP. \n  \nEntries Close: Sept 26\, 2018 with the FTS. \nJudges: Kathy Nestor & Jerry Livingston\n  \n\n		\n			\n			\n		\n\n		\n  \n\n		\n			\n			\n		\n\n		\n[wunderground location=”Albany\, OR” numdays=”5″ showdata=”alert\,daynames\,pop\,icon\,highlow\,conditions\,date” layout=”table-horizontal”]
URL:https://essft.com/event/northwest-english-springer-spaniel-club-nwessc/
LOCATION:Knaupp Farm\, Rickreall\, OR 97371\, USA\, Rickreall\, Oregon\, 97371\, United States
CATEGORIES:Field Trials - West
ORGANIZER;CN="Paula Mazurek":MAILTO:mtmyst@cablespeed.com
GEO:44.932282;-123.235104
X-APPLE-STRUCTURED-LOCATION;VALUE=URI;X-ADDRESS=Knaupp Farm Rickreall OR 97371 USA Rickreall Oregon 97371 United States;X-APPLE-RADIUS=500;X-TITLE=Rickreall\, OR 97371\, USA:geo:-123.235104,44.932282
END:VEVENT
END:VCALENDAR