BEGIN:VCALENDAR
VERSION:2.0
PRODID:-//English Springer Spaniel Field Trials - ECPv6.15.20//NONSGML v1.0//EN
CALSCALE:GREGORIAN
METHOD:PUBLISH
X-WR-CALNAME:English Springer Spaniel Field Trials
X-ORIGINAL-URL:https://essft.com
X-WR-CALDESC:Events for English Springer Spaniel Field Trials
REFRESH-INTERVAL;VALUE=DURATION:PT1H
X-Robots-Tag:noindex
X-PUBLISHED-TTL:PT1H
BEGIN:VTIMEZONE
TZID:America/Chicago
BEGIN:DAYLIGHT
TZOFFSETFROM:-0600
TZOFFSETTO:-0500
TZNAME:CDT
DTSTART:20190310T080000
END:DAYLIGHT
BEGIN:STANDARD
TZOFFSETFROM:-0500
TZOFFSETTO:-0600
TZNAME:CST
DTSTART:20191103T070000
END:STANDARD
BEGIN:DAYLIGHT
TZOFFSETFROM:-0600
TZOFFSETTO:-0500
TZNAME:CDT
DTSTART:20200308T080000
END:DAYLIGHT
BEGIN:STANDARD
TZOFFSETFROM:-0500
TZOFFSETTO:-0600
TZNAME:CST
DTSTART:20201101T070000
END:STANDARD
BEGIN:DAYLIGHT
TZOFFSETFROM:-0600
TZOFFSETTO:-0500
TZNAME:CDT
DTSTART:20210314T080000
END:DAYLIGHT
BEGIN:STANDARD
TZOFFSETFROM:-0500
TZOFFSETTO:-0600
TZNAME:CST
DTSTART:20211107T070000
END:STANDARD
END:VTIMEZONE
BEGIN:VEVENT
DTSTART;TZID=America/Chicago:20201003T000000
DTEND;TZID=America/Chicago:20201004T000000
DTSTAMP:20260422T225919
CREATED:20250612T042848Z
LAST-MODIFIED:20250612T042848Z
UID:75648-1601683200-1601769600@essft.com
SUMMARY:NWESSC  Northwest English Springer Spaniel Club
DESCRIPTION:Entries Close: Tuesday\, September 22\, 2020 11:59:59 PM Eastern Time(ET) on Hunt Secretary \nJudges:  Gary Davis and Bob Davis
URL:https://essft.com/event/nwessc-northwest-english-springer-spaniel-club/
LOCATION:Knaupp Farm\, Rickreall\, OR 97371\, USA\, Rickreall\, Oregon\, 97371\, United States
CATEGORIES:Field Trials - West
ORGANIZER;CN="Paula Mazurek":MAILTO:mtmyst@cablespeed.com
GEO:44.932282;-123.235104
X-APPLE-STRUCTURED-LOCATION;VALUE=URI;X-ADDRESS=Knaupp Farm Rickreall OR 97371 USA Rickreall Oregon 97371 United States;X-APPLE-RADIUS=500;X-TITLE=Rickreall\, OR 97371\, USA:geo:-123.235104,44.932282
END:VEVENT
END:VCALENDAR