BEGIN:VCALENDAR
VERSION:2.0
PRODID:-//English Springer Spaniel Field Trials - ECPv6.15.20//NONSGML v1.0//EN
CALSCALE:GREGORIAN
METHOD:PUBLISH
X-WR-CALNAME:English Springer Spaniel Field Trials
X-ORIGINAL-URL:https://essft.com
X-WR-CALDESC:Events for English Springer Spaniel Field Trials
REFRESH-INTERVAL;VALUE=DURATION:PT1H
X-Robots-Tag:noindex
X-PUBLISHED-TTL:PT1H
BEGIN:VTIMEZONE
TZID:America/Chicago
BEGIN:DAYLIGHT
TZOFFSETFROM:-0600
TZOFFSETTO:-0500
TZNAME:CDT
DTSTART:20170312T080000
END:DAYLIGHT
BEGIN:STANDARD
TZOFFSETFROM:-0500
TZOFFSETTO:-0600
TZNAME:CST
DTSTART:20171105T070000
END:STANDARD
BEGIN:DAYLIGHT
TZOFFSETFROM:-0600
TZOFFSETTO:-0500
TZNAME:CDT
DTSTART:20180311T080000
END:DAYLIGHT
BEGIN:STANDARD
TZOFFSETFROM:-0500
TZOFFSETTO:-0600
TZNAME:CST
DTSTART:20181104T070000
END:STANDARD
BEGIN:DAYLIGHT
TZOFFSETFROM:-0600
TZOFFSETTO:-0500
TZNAME:CDT
DTSTART:20190310T080000
END:DAYLIGHT
BEGIN:STANDARD
TZOFFSETFROM:-0500
TZOFFSETTO:-0600
TZNAME:CST
DTSTART:20191103T070000
END:STANDARD
END:VTIMEZONE
BEGIN:VEVENT
DTSTART;TZID=America/Chicago:20180623T000000
DTEND;TZID=America/Chicago:20180624T000000
DTSTAMP:20260424T112450
CREATED:20250611T183714Z
LAST-MODIFIED:20250611T183714Z
UID:75030-1529712000-1529798400@essft.com
SUMMARY:Patriot Sporting Spaniel Club - Hunt Test
DESCRIPTION:Entries close: Sunday\, June 17\, 2018
URL:https://essft.com/event/patriot-sporting-spaniel-club-hunt-test/
LOCATION:Little Frost Road\,\, Contoocook\, Hopkinton\, NH 03229\, USA\, Hopkinton\, New Hampshire\, 3229\, United States
CATEGORIES:Hunt Tests
GEO:43.222023;-71.713965
X-APPLE-STRUCTURED-LOCATION;VALUE=URI;X-ADDRESS=Little Frost Road Contoocook Hopkinton NH 03229 USA Hopkinton New Hampshire 3229 United States;X-APPLE-RADIUS=500;X-TITLE=Contoocook\, Hopkinton\, NH 03229\, USA:geo:-71.713965,43.222023
END:VEVENT
END:VCALENDAR