BEGIN:VCALENDAR
VERSION:2.0
PRODID:-//English Springer Spaniel Field Trials - ECPv6.15.20//NONSGML v1.0//EN
CALSCALE:GREGORIAN
METHOD:PUBLISH
X-WR-CALNAME:English Springer Spaniel Field Trials
X-ORIGINAL-URL:https://essft.com
X-WR-CALDESC:Events for English Springer Spaniel Field Trials
REFRESH-INTERVAL;VALUE=DURATION:PT1H
X-Robots-Tag:noindex
X-PUBLISHED-TTL:PT1H
BEGIN:VTIMEZONE
TZID:America/Denver
BEGIN:DAYLIGHT
TZOFFSETFROM:-0700
TZOFFSETTO:-0600
TZNAME:MDT
DTSTART:20160313T090000
END:DAYLIGHT
BEGIN:STANDARD
TZOFFSETFROM:-0600
TZOFFSETTO:-0700
TZNAME:MST
DTSTART:20161106T080000
END:STANDARD
BEGIN:DAYLIGHT
TZOFFSETFROM:-0700
TZOFFSETTO:-0600
TZNAME:MDT
DTSTART:20170312T090000
END:DAYLIGHT
BEGIN:STANDARD
TZOFFSETFROM:-0600
TZOFFSETTO:-0700
TZNAME:MST
DTSTART:20171105T080000
END:STANDARD
BEGIN:DAYLIGHT
TZOFFSETFROM:-0700
TZOFFSETTO:-0600
TZNAME:MDT
DTSTART:20180311T090000
END:DAYLIGHT
BEGIN:STANDARD
TZOFFSETFROM:-0600
TZOFFSETTO:-0700
TZNAME:MST
DTSTART:20181104T080000
END:STANDARD
END:VTIMEZONE
BEGIN:VEVENT
DTSTART;TZID=America/Denver:20170929T000000
DTEND;TZID=America/Denver:20171001T000000
DTSTAMP:20260424T085921
CREATED:20250611T174429Z
LAST-MODIFIED:20250611T174429Z
UID:74865-1506643200-1506816000@essft.com
SUMMARY:Pawnee Flushing Spaniel Club
DESCRIPTION:Entries close:  Saturday\, September 16\, 2017 via mail. \nFRIDAY & SATURDAY – Judges: Clay Earl and Randy Manore \nSATURDAY & SUNDAY – Judges: Russ Smith and Brud Prock \n2017 Pawnee Flushing Spaniel Club Fall FT Letter \n2017 Pawnee Schedule of Events and Map Fall \n2017 Pawnee Fall FT#1 Premium \n2017 Pawnee Flushing Spaniel Club Fall FT Premium \nRunning Orders\n2017 Pawnee Fall FT #1 – Open Running Order \n2017 Pawnee Fall FT #1 – Amateur Running Order \n2017 Pawnee Fall FT#1 – Puppy Running Order \n2017 Pawnee Fall FT#2 – Open Running Order \n2017 Pawnee Fall FT # 2 – Amateur Running Order \n[wunderground location=”Crook\, CO” numdays=”5″ showdata=”alert\,daynames\,pop\,icon\,highlow\,conditions\,date” layout=”table-horizontal”]  \n 
URL:https://essft.com/event/pawnee-flushing-spaniel-club-2/
LOCATION:Tamarack Ranch S.W.A\, Crook\, CO 80726\, USA\, Crook\, Colorado\, 80726\, United States
CATEGORIES:Field Trials - Rocky Mountain
GEO:40.85888;-102.801026
X-APPLE-STRUCTURED-LOCATION;VALUE=URI;X-ADDRESS=Tamarack Ranch S.W.A Crook CO 80726 USA Crook Colorado 80726 United States;X-APPLE-RADIUS=500;X-TITLE=Crook\, CO 80726\, USA:geo:-102.801026,40.85888
END:VEVENT
END:VCALENDAR