BEGIN:VCALENDAR
VERSION:2.0
PRODID:-//English Springer Spaniel Field Trials - ECPv6.15.20//NONSGML v1.0//EN
CALSCALE:GREGORIAN
METHOD:PUBLISH
X-WR-CALNAME:English Springer Spaniel Field Trials
X-ORIGINAL-URL:https://essft.com
X-WR-CALDESC:Events for English Springer Spaniel Field Trials
REFRESH-INTERVAL;VALUE=DURATION:PT1H
X-Robots-Tag:noindex
X-PUBLISHED-TTL:PT1H
BEGIN:VTIMEZONE
TZID:America/Chicago
BEGIN:DAYLIGHT
TZOFFSETFROM:-0600
TZOFFSETTO:-0500
TZNAME:CDT
DTSTART:20160313T080000
END:DAYLIGHT
BEGIN:STANDARD
TZOFFSETFROM:-0500
TZOFFSETTO:-0600
TZNAME:CST
DTSTART:20161106T070000
END:STANDARD
BEGIN:DAYLIGHT
TZOFFSETFROM:-0600
TZOFFSETTO:-0500
TZNAME:CDT
DTSTART:20170312T080000
END:DAYLIGHT
BEGIN:STANDARD
TZOFFSETFROM:-0500
TZOFFSETTO:-0600
TZNAME:CST
DTSTART:20171105T070000
END:STANDARD
BEGIN:DAYLIGHT
TZOFFSETFROM:-0600
TZOFFSETTO:-0500
TZNAME:CDT
DTSTART:20180311T080000
END:DAYLIGHT
BEGIN:STANDARD
TZOFFSETFROM:-0500
TZOFFSETTO:-0600
TZNAME:CST
DTSTART:20181104T070000
END:STANDARD
END:VTIMEZONE
BEGIN:VEVENT
DTSTART;TZID=America/Chicago:20171021T000000
DTEND;TZID=America/Chicago:20171022T000000
DTSTAMP:20260423T004834
CREATED:20250611T175636Z
LAST-MODIFIED:20250611T175636Z
UID:74894-1508544000-1508630400@essft.com
SUMMARY:Ravenna Field Trial Club
DESCRIPTION:80th! Annual Field Trial\nEntries Close: Wednesday\, October 11th \nJudges:  Paul Haering and Robert Clayton \n2017 Ravenna Fall FT Premium \n  \nRunning Orders\n2017 Ravenna FTC Fall FT Open Running Order (MS Excel) \n2017 Ravenna FTC Fall FT Open Running Order (PDF) \n2017 Ravenna FTC Fall FT Amateur Running Order (MS Excel) \n2017 Ravenna FTC Fall FT Amateur Running Order (PDF) \n  \n  \n[wunderground location=”Ravenna\, OH” numdays=”5″ showdata=”alert\,daynames\,pop\,icon\,highlow\,conditions\,date” layout=”table-horizontal”] 
URL:https://essft.com/event/ravenna-field-trial-club-2/
LOCATION:Riddlefield\, 8541 Limeridge Rd\, Ravenna\, OH 44266\, USA\, Ravenna\, Ohio\, 44266\, United States
CATEGORIES:Field Trials - Mid East
ORGANIZER;CN="Karen Sherbondy":MAILTO:ksherbondy9148@gmail.com
GEO:41.223866;-81.183042
X-APPLE-STRUCTURED-LOCATION;VALUE=URI;X-ADDRESS=Riddlefield 8541 Limeridge Rd Ravenna OH 44266 USA Ravenna Ohio 44266 United States;X-APPLE-RADIUS=500;X-TITLE=8541 Limeridge Rd\, Ravenna\, OH 44266\, USA:geo:-81.183042,41.223866
END:VEVENT
END:VCALENDAR