BEGIN:VCALENDAR
VERSION:2.0
PRODID:-//English Springer Spaniel Field Trials - ECPv6.15.20//NONSGML v1.0//EN
CALSCALE:GREGORIAN
METHOD:PUBLISH
X-WR-CALNAME:English Springer Spaniel Field Trials
X-ORIGINAL-URL:https://essft.com
X-WR-CALDESC:Events for English Springer Spaniel Field Trials
REFRESH-INTERVAL;VALUE=DURATION:PT1H
X-Robots-Tag:noindex
X-PUBLISHED-TTL:PT1H
BEGIN:VTIMEZONE
TZID:America/Chicago
BEGIN:DAYLIGHT
TZOFFSETFROM:-0600
TZOFFSETTO:-0500
TZNAME:CDT
DTSTART:20170312T080000
END:DAYLIGHT
BEGIN:STANDARD
TZOFFSETFROM:-0500
TZOFFSETTO:-0600
TZNAME:CST
DTSTART:20171105T070000
END:STANDARD
BEGIN:DAYLIGHT
TZOFFSETFROM:-0600
TZOFFSETTO:-0500
TZNAME:CDT
DTSTART:20180311T080000
END:DAYLIGHT
BEGIN:STANDARD
TZOFFSETFROM:-0500
TZOFFSETTO:-0600
TZNAME:CST
DTSTART:20181104T070000
END:STANDARD
BEGIN:DAYLIGHT
TZOFFSETFROM:-0600
TZOFFSETTO:-0500
TZNAME:CDT
DTSTART:20190310T080000
END:DAYLIGHT
BEGIN:STANDARD
TZOFFSETFROM:-0500
TZOFFSETTO:-0600
TZNAME:CST
DTSTART:20191103T070000
END:STANDARD
END:VTIMEZONE
BEGIN:VEVENT
DTSTART;TZID=America/Chicago:20181020T000000
DTEND;TZID=America/Chicago:20181021T000000
DTSTAMP:20260423T132027
CREATED:20250611T200600Z
LAST-MODIFIED:20250611T200600Z
UID:75136-1539993600-1540080000@essft.com
SUMMARY:Ravenna Field Trial Club
DESCRIPTION:Entries Close:  Friday\, October 12th 2018 at 8:00 pm with the Field Trial Secretary. \nJudges:  Ken Hanson and John Bruggeman\n10/19- Updated Running Orders \n  \n\n		\n			\n			\n		\n\n		\n  \n\n		\n			\n			\n		\n\n		\nRFTC 2018 Premium MS WORD \n  \n\n		\n			\n			\n		\n\n		\n  \n[wunderground location=”Mantua\, OH” numdays=”5″ showdata=”alert\,daynames\,pop\,icon\,highlow\,conditions\,date” layout=”table-horizontal”] \n  \n  \n  \n 
URL:https://essft.com/event/ravenna-field-trial-club-3/
LOCATION:Riddlefield\, 8541 Limeridge Rd\, Ravenna\, OH 44266\, USA\, Ravenna\, Ohio\, 44266\, United States
CATEGORIES:Field Trials - Mid East
GEO:41.223866;-81.183042
X-APPLE-STRUCTURED-LOCATION;VALUE=URI;X-ADDRESS=Riddlefield 8541 Limeridge Rd Ravenna OH 44266 USA Ravenna Ohio 44266 United States;X-APPLE-RADIUS=500;X-TITLE=8541 Limeridge Rd\, Ravenna\, OH 44266\, USA:geo:-81.183042,41.223866
END:VEVENT
END:VCALENDAR