BEGIN:VCALENDAR
VERSION:2.0
PRODID:-//English Springer Spaniel Field Trials - ECPv6.15.20//NONSGML v1.0//EN
CALSCALE:GREGORIAN
METHOD:PUBLISH
X-WR-CALNAME:English Springer Spaniel Field Trials
X-ORIGINAL-URL:https://essft.com
X-WR-CALDESC:Events for English Springer Spaniel Field Trials
REFRESH-INTERVAL;VALUE=DURATION:PT1H
X-Robots-Tag:noindex
X-PUBLISHED-TTL:PT1H
BEGIN:VTIMEZONE
TZID:America/Chicago
BEGIN:DAYLIGHT
TZOFFSETFROM:-0600
TZOFFSETTO:-0500
TZNAME:CDT
DTSTART:20200308T080000
END:DAYLIGHT
BEGIN:STANDARD
TZOFFSETFROM:-0500
TZOFFSETTO:-0600
TZNAME:CST
DTSTART:20201101T070000
END:STANDARD
BEGIN:DAYLIGHT
TZOFFSETFROM:-0600
TZOFFSETTO:-0500
TZNAME:CDT
DTSTART:20210314T080000
END:DAYLIGHT
BEGIN:STANDARD
TZOFFSETFROM:-0500
TZOFFSETTO:-0600
TZNAME:CST
DTSTART:20211107T070000
END:STANDARD
BEGIN:DAYLIGHT
TZOFFSETFROM:-0600
TZOFFSETTO:-0500
TZNAME:CDT
DTSTART:20220313T080000
END:DAYLIGHT
BEGIN:STANDARD
TZOFFSETFROM:-0500
TZOFFSETTO:-0600
TZNAME:CST
DTSTART:20221106T070000
END:STANDARD
END:VTIMEZONE
BEGIN:VEVENT
DTSTART;TZID=America/Chicago:20210215T000000
DTEND;TZID=America/Chicago:20210215T000000
DTSTAMP:20260422T204205
CREATED:20250613T025523Z
LAST-MODIFIED:20250613T025523Z
UID:75743-1613347200-1613347200@essft.com
SUMMARY:San Fernando Valley Springer Spaniel Club
DESCRIPTION:1/8/21: New Location – 5030 Ave 68\, Alpaugh\, CA.  Approximately 40 miles SW of Porterville. \nEntries Close: 8:00 PM (PST) February 3\, 2021 with the FTS \nJudges: Renee Shannon  and  Gary Davis\n\n		\n			\n			\n		\n\n		\n 
URL:https://essft.com/event/san-fernando-valley-springer-spaniel-club-4/
CATEGORIES:Field Trials - West
END:VEVENT
END:VCALENDAR