BEGIN:VCALENDAR
VERSION:2.0
PRODID:-//English Springer Spaniel Field Trials - ECPv6.15.20//NONSGML v1.0//EN
CALSCALE:GREGORIAN
METHOD:PUBLISH
X-WR-CALNAME:English Springer Spaniel Field Trials
X-ORIGINAL-URL:https://essft.com
X-WR-CALDESC:Events for English Springer Spaniel Field Trials
REFRESH-INTERVAL;VALUE=DURATION:PT1H
X-Robots-Tag:noindex
X-PUBLISHED-TTL:PT1H
BEGIN:VTIMEZONE
TZID:America/Chicago
BEGIN:DAYLIGHT
TZOFFSETFROM:-0600
TZOFFSETTO:-0500
TZNAME:CDT
DTSTART:20240310T080000
END:DAYLIGHT
BEGIN:STANDARD
TZOFFSETFROM:-0500
TZOFFSETTO:-0600
TZNAME:CST
DTSTART:20241103T070000
END:STANDARD
BEGIN:DAYLIGHT
TZOFFSETFROM:-0600
TZOFFSETTO:-0500
TZNAME:CDT
DTSTART:20250309T080000
END:DAYLIGHT
BEGIN:STANDARD
TZOFFSETFROM:-0500
TZOFFSETTO:-0600
TZNAME:CST
DTSTART:20251102T070000
END:STANDARD
BEGIN:DAYLIGHT
TZOFFSETFROM:-0600
TZOFFSETTO:-0500
TZNAME:CDT
DTSTART:20260308T080000
END:DAYLIGHT
BEGIN:STANDARD
TZOFFSETFROM:-0500
TZOFFSETTO:-0600
TZNAME:CST
DTSTART:20261101T070000
END:STANDARD
END:VTIMEZONE
BEGIN:VEVENT
DTSTART;VALUE=DATE:20251018
DTEND;VALUE=DATE:20251020
DTSTAMP:20260421T092524
CREATED:20250711T194125Z
LAST-MODIFIED:20250827T021005Z
UID:77353-1760745600-1760918399@essft.com
SUMMARY:Savannah River Upland Poodle Club Spaniel Hunt Test
DESCRIPTION:Entries Close: Wednesday\, October 1\, 2025 11:59:59 PM Eastern Time(ET) on Hunt Secretary
URL:https://essft.com/event/savannah-river-upland-poodle-club-spaniel-hunt-test-3/
LOCATION:Louter Creek Farm\, 270 Oscar Walton Road\, Tingall\, GA\, 30668\, United States
CATEGORIES:Hunt Tests
ORGANIZER;CN="Roger Ivester":MAILTO:savannahriverupc@gmail.com
GEO:34.01733;-83.641228
X-APPLE-STRUCTURED-LOCATION;VALUE=URI;X-ADDRESS=Louter Creek Farm 270 Oscar Walton Road Tingall GA 30668 United States;X-APPLE-RADIUS=500;X-TITLE=270 Oscar Walton Road:geo:-83.641228,34.01733
END:VEVENT
END:VCALENDAR