BEGIN:VCALENDAR
VERSION:2.0
PRODID:-//English Springer Spaniel Field Trials - ECPv6.15.20//NONSGML v1.0//EN
CALSCALE:GREGORIAN
METHOD:PUBLISH
X-WR-CALNAME:English Springer Spaniel Field Trials
X-ORIGINAL-URL:https://essft.com
X-WR-CALDESC:Events for English Springer Spaniel Field Trials
REFRESH-INTERVAL;VALUE=DURATION:PT1H
X-Robots-Tag:noindex
X-PUBLISHED-TTL:PT1H
BEGIN:VTIMEZONE
TZID:America/Chicago
BEGIN:DAYLIGHT
TZOFFSETFROM:-0600
TZOFFSETTO:-0500
TZNAME:CDT
DTSTART:20230312T080000
END:DAYLIGHT
BEGIN:STANDARD
TZOFFSETFROM:-0500
TZOFFSETTO:-0600
TZNAME:CST
DTSTART:20231105T070000
END:STANDARD
BEGIN:DAYLIGHT
TZOFFSETFROM:-0600
TZOFFSETTO:-0500
TZNAME:CDT
DTSTART:20240310T080000
END:DAYLIGHT
BEGIN:STANDARD
TZOFFSETFROM:-0500
TZOFFSETTO:-0600
TZNAME:CST
DTSTART:20241103T070000
END:STANDARD
BEGIN:DAYLIGHT
TZOFFSETFROM:-0600
TZOFFSETTO:-0500
TZNAME:CDT
DTSTART:20250309T080000
END:DAYLIGHT
BEGIN:STANDARD
TZOFFSETFROM:-0500
TZOFFSETTO:-0600
TZNAME:CST
DTSTART:20251102T070000
END:STANDARD
END:VTIMEZONE
BEGIN:VEVENT
DTSTART;TZID=America/Chicago:20240803T000000
DTEND;TZID=America/Chicago:20240803T000000
DTSTAMP:20260421T180223
CREATED:20250614T165925Z
LAST-MODIFIED:20250614T165925Z
UID:76635-1722643200-1722643200@essft.com
SUMMARY:SAVE THE DATE: Field Trial Judging Seminar
DESCRIPTION:August 3rd \, 2024\nSaturday 8:30 am – 3:30 pm \nHost: Northern Minnesota English Springer Spaniel Club \nLocation: Pine Shadows 14752 Three Mile Road Brainerd\, MN 56401 \nModerator: Tom Meyer\, AKC \nJudges Panel: Todd Stelzer\, Paul McGagh\, Kevin Martineau \nThis panel is subject to change based on travel and unknown emergency commitments. \nChecks to NMESSC includes lunch\, snacks\, Friday Night BBQ\, \nbeverages.
URL:https://essft.com/event/save-the-date-field-trial-judging-seminar/
CATEGORIES:Judging Seminar
END:VEVENT
END:VCALENDAR